BEGIN:VCALENDAR
VERSION:2.0
PRODID:-//Waldgasthof Buchenhain | Hotel, Restaurant &amp; Biergarten - ECPv6.15.20//NONSGML v1.0//EN
CALSCALE:GREGORIAN
METHOD:PUBLISH
X-WR-CALNAME:Waldgasthof Buchenhain | Hotel, Restaurant &amp; Biergarten
X-ORIGINAL-URL:https://hotelbuchenhain.de
X-WR-CALDESC:Veranstaltungen für Waldgasthof Buchenhain | Hotel, Restaurant &amp; Biergarten
REFRESH-INTERVAL;VALUE=DURATION:PT1H
X-Robots-Tag:noindex
X-PUBLISHED-TTL:PT1H
BEGIN:VTIMEZONE
TZID:Europe/Berlin
BEGIN:DAYLIGHT
TZOFFSETFROM:+0100
TZOFFSETTO:+0200
TZNAME:CEST
DTSTART:20230326T010000
END:DAYLIGHT
BEGIN:STANDARD
TZOFFSETFROM:+0200
TZOFFSETTO:+0100
TZNAME:CET
DTSTART:20231029T010000
END:STANDARD
BEGIN:DAYLIGHT
TZOFFSETFROM:+0100
TZOFFSETTO:+0200
TZNAME:CEST
DTSTART:20240331T010000
END:DAYLIGHT
BEGIN:STANDARD
TZOFFSETFROM:+0200
TZOFFSETTO:+0100
TZNAME:CET
DTSTART:20241027T010000
END:STANDARD
BEGIN:DAYLIGHT
TZOFFSETFROM:+0100
TZOFFSETTO:+0200
TZNAME:CEST
DTSTART:20250330T010000
END:DAYLIGHT
BEGIN:STANDARD
TZOFFSETFROM:+0200
TZOFFSETTO:+0100
TZNAME:CET
DTSTART:20251026T010000
END:STANDARD
END:VTIMEZONE
BEGIN:VEVENT
DTSTART;TZID=Europe/Berlin:20241108T200000
DTEND;TZID=Europe/Berlin:20241108T200000
DTSTAMP:20260423T220959
CREATED:20240507T101005Z
LAST-MODIFIED:20241004T133039Z
UID:10000223-1731096000-1731096000@hotelbuchenhain.de
SUMMARY:CANDLE LIGHT DINNER
DESCRIPTION:Heut‘ wird’s romantisch! \nBei Kerzenschein und romantischem Ambiente bereiten wir ein köstliches 3-Gang-Menü mit Aperitif in der Antoniusstube. \nAuf die Liebe! \nDas Menü: \nWinzer Sekt rosé von Schloss Sommerhausen \n*** \nKürbiscremesuppe mit Kürbiskernen und Kernöl \n*** \nRinderfiletsteak mit Garnele dazu Marktgemüse und Kartoffelkrapfen \noder \nSamtiges Champignon-Risotto mit frischen Kräutern\, kleinen Tomaten und Grana Padano \n*** \nKaiserschmarrn mit Rumrosinen und Mandeln \nPreis: € 59\,00\,- pro Person \nBitte reservieren Sie rechtzeitig online oder unter +49 (0) 89-7448840. \nTisch reservieren
URL:https://hotelbuchenhain.de/event/candle-light-dinner-2/
ATTACH;FMTTYPE=image/jpeg:https://hotelbuchenhain.de/wp-content/uploads/2024/05/candle-light-dinner-im-waldgasthof-1.jpg
END:VEVENT
END:VCALENDAR