BEGIN:VCALENDAR
VERSION:2.0
PRODID:-//Waldgasthof Buchenhain | Hotel, Restaurant &amp; Biergarten - ECPv6.15.20//NONSGML v1.0//EN
CALSCALE:GREGORIAN
METHOD:PUBLISH
X-WR-CALNAME:Waldgasthof Buchenhain | Hotel, Restaurant &amp; Biergarten
X-ORIGINAL-URL:https://hotelbuchenhain.de
X-WR-CALDESC:Veranstaltungen für Waldgasthof Buchenhain | Hotel, Restaurant &amp; Biergarten
REFRESH-INTERVAL;VALUE=DURATION:PT1H
X-Robots-Tag:noindex
X-PUBLISHED-TTL:PT1H
BEGIN:VTIMEZONE
TZID:Europe/Berlin
BEGIN:DAYLIGHT
TZOFFSETFROM:+0100
TZOFFSETTO:+0200
TZNAME:CEST
DTSTART:20230326T010000
END:DAYLIGHT
BEGIN:STANDARD
TZOFFSETFROM:+0200
TZOFFSETTO:+0100
TZNAME:CET
DTSTART:20231029T010000
END:STANDARD
BEGIN:DAYLIGHT
TZOFFSETFROM:+0100
TZOFFSETTO:+0200
TZNAME:CEST
DTSTART:20240331T010000
END:DAYLIGHT
BEGIN:STANDARD
TZOFFSETFROM:+0200
TZOFFSETTO:+0100
TZNAME:CET
DTSTART:20241027T010000
END:STANDARD
BEGIN:DAYLIGHT
TZOFFSETFROM:+0100
TZOFFSETTO:+0200
TZNAME:CEST
DTSTART:20250330T010000
END:DAYLIGHT
BEGIN:STANDARD
TZOFFSETFROM:+0200
TZOFFSETTO:+0100
TZNAME:CET
DTSTART:20251026T010000
END:STANDARD
END:VTIMEZONE
BEGIN:VEVENT
DTSTART;VALUE=DATE:20241206
DTEND;VALUE=DATE:20241207
DTSTAMP:20260423T205051
CREATED:20240507T112555Z
LAST-MODIFIED:20241105T115901Z
UID:10000232-1733443200-1733529599@hotelbuchenhain.de
SUMMARY:NIKOLAUSABEND
DESCRIPTION:Zeit für Brauchtum! \nDer Nikolaus kommt und mit ihm ein feines 3-Gang-Menü (à la Carte ist ebenfalls möglich). \nWir bitten um rechtzeitige Reservierung. \nDas Nikolaus Menü: \nKürbiscremesuppe\nmit gerösteten Kernen und steirischem Kernöl \n*** \nGebratene Barbarie-Entenbrust auf Sauerkirschen-Sauce\nmit Rosenkohl und Kartoffelgratin \n*** \nGefüllter Bratapfel auf Vanillerahm mit Nuss-Eis \nPreis: € 43\,50\,- pro Person
URL:https://hotelbuchenhain.de/event/nikolausabend/
ATTACH;FMTTYPE=image/jpeg:https://hotelbuchenhain.de/wp-content/uploads/2024/05/nikolaus-im-waldgasthof.jpg
END:VEVENT
END:VCALENDAR