BEGIN:VCALENDAR
VERSION:2.0
PRODID:-//Waldgasthof Buchenhain | Hotel, Restaurant &amp; Biergarten - ECPv6.15.20//NONSGML v1.0//EN
CALSCALE:GREGORIAN
METHOD:PUBLISH
X-WR-CALNAME:Waldgasthof Buchenhain | Hotel, Restaurant &amp; Biergarten
X-ORIGINAL-URL:https://hotelbuchenhain.de
X-WR-CALDESC:Veranstaltungen für Waldgasthof Buchenhain | Hotel, Restaurant &amp; Biergarten
REFRESH-INTERVAL;VALUE=DURATION:PT1H
X-Robots-Tag:noindex
X-PUBLISHED-TTL:PT1H
BEGIN:VTIMEZONE
TZID:Europe/Berlin
BEGIN:DAYLIGHT
TZOFFSETFROM:+0100
TZOFFSETTO:+0200
TZNAME:CEST
DTSTART:20230326T010000
END:DAYLIGHT
BEGIN:STANDARD
TZOFFSETFROM:+0200
TZOFFSETTO:+0100
TZNAME:CET
DTSTART:20231029T010000
END:STANDARD
BEGIN:DAYLIGHT
TZOFFSETFROM:+0100
TZOFFSETTO:+0200
TZNAME:CEST
DTSTART:20240331T010000
END:DAYLIGHT
BEGIN:STANDARD
TZOFFSETFROM:+0200
TZOFFSETTO:+0100
TZNAME:CET
DTSTART:20241027T010000
END:STANDARD
BEGIN:DAYLIGHT
TZOFFSETFROM:+0100
TZOFFSETTO:+0200
TZNAME:CEST
DTSTART:20250330T010000
END:DAYLIGHT
BEGIN:STANDARD
TZOFFSETFROM:+0200
TZOFFSETTO:+0100
TZNAME:CET
DTSTART:20251026T010000
END:STANDARD
END:VTIMEZONE
BEGIN:VEVENT
DTSTART;VALUE=DATE:20241231
DTEND;VALUE=DATE:20250101
DTSTAMP:20260423T192326
CREATED:20240507T114449Z
LAST-MODIFIED:20241126T085200Z
UID:10000234-1735603200-1735689599@hotelbuchenhain.de
SUMMARY:SILVESTERPARTY
DESCRIPTION:Zeit zum Feiern! \nUnsere alljährliche Silvesterparty steigt – mit 8-Gänge-Galamenü\, Steh-Aperitif mit Flying Amuse\, Live-Musik von The Meverix ab 21 Uhr\, großem Feuerwerk und Comedy Kellner. \nDie Party beginnt ab 18 Uhr und endet um 2 Uhr. \nStoßen Sie mit uns an aufs neue Jahr und lassen wir zusammen die Korken knallen! \nDas Galamenü: \nFlying-Amuse (Fetakäse auf Feigencarpaccio) \n*** \nBresaola und Coppa Stagionata \nZweierlei luftgetrockneter Schinken auf Mango-Chutney \n*** \nHummercremesuppe mit Blumenkohlsäckchen \n*** \nSeeteufel—Medaillons auf Trüffel-Risotto \n*** \nOrangensorbet mit Granatapfelkernen und Prosecco \n*** \nGegrillte Kalbslende auf Cognacsauce mit kleinem Gemüse\, Estragon-Hollandaise und Kartoffelgratin \n*** \nDuett von Limette und Cocos \n*** \nKäsebuffet regional und international mit verschiedenen fruchtig-scharfen Senfsorten \n*** \nMitternachtssuppe \nSafran-Cremesuppe mit Baguette \n(vom Buffet) \nPreis: € 169\,00\,- pro Person (exklusive Getränke) \nBitte reservieren Sie rechtzeitig online oder unter +49 (0) 89-7448840.
URL:https://hotelbuchenhain.de/event/silvesterparty-2/
ATTACH;FMTTYPE=image/jpeg:https://hotelbuchenhain.de/wp-content/uploads/2024/05/silvester-im-waldgasthof.jpg
END:VEVENT
END:VCALENDAR