BEGIN:VCALENDAR
VERSION:2.0
PRODID:-//Waldgasthof Buchenhain | Hotel, Restaurant &amp; Biergarten - ECPv6.15.20//NONSGML v1.0//EN
CALSCALE:GREGORIAN
METHOD:PUBLISH
X-WR-CALNAME:Waldgasthof Buchenhain | Hotel, Restaurant &amp; Biergarten
X-ORIGINAL-URL:https://hotelbuchenhain.de
X-WR-CALDESC:Veranstaltungen für Waldgasthof Buchenhain | Hotel, Restaurant &amp; Biergarten
REFRESH-INTERVAL;VALUE=DURATION:PT1H
X-Robots-Tag:noindex
X-PUBLISHED-TTL:PT1H
BEGIN:VTIMEZONE
TZID:Europe/Berlin
BEGIN:DAYLIGHT
TZOFFSETFROM:+0100
TZOFFSETTO:+0200
TZNAME:CEST
DTSTART:20240331T010000
END:DAYLIGHT
BEGIN:STANDARD
TZOFFSETFROM:+0200
TZOFFSETTO:+0100
TZNAME:CET
DTSTART:20241027T010000
END:STANDARD
BEGIN:DAYLIGHT
TZOFFSETFROM:+0100
TZOFFSETTO:+0200
TZNAME:CEST
DTSTART:20250330T010000
END:DAYLIGHT
BEGIN:STANDARD
TZOFFSETFROM:+0200
TZOFFSETTO:+0100
TZNAME:CET
DTSTART:20251026T010000
END:STANDARD
BEGIN:DAYLIGHT
TZOFFSETFROM:+0100
TZOFFSETTO:+0200
TZNAME:CEST
DTSTART:20260329T010000
END:DAYLIGHT
BEGIN:STANDARD
TZOFFSETFROM:+0200
TZOFFSETTO:+0100
TZNAME:CET
DTSTART:20261025T010000
END:STANDARD
END:VTIMEZONE
BEGIN:VEVENT
DTSTART;VALUE=DATE:20250111
DTEND;VALUE=DATE:20250201
DTSTAMP:20260423T174437
CREATED:20241216T151746Z
LAST-MODIFIED:20241217T101246Z
UID:10000235-1736553600-1738367999@hotelbuchenhain.de
SUMMARY:WINTERLICHE PFANNENGERICHTE
DESCRIPTION:Der Winter wird herzhaft! Wir servieren deftige und wärmende Eintöpfe – genau das richtige „Seelenfutter“ für die kalte Jahreszeit. \nFreuen Sie sich auf: \n\nScharf & exotisch: Reispfanne; saftig-pikanter Gemüsereis mit gebratenen Putenbruststreifen\nDeftig: Gröst‘lpfanne; Entengröst’l mit Apfel und Zwiebel dazu Blaukraut und Kartoffelknödel\nWürstig: Würst’lpfanne; 3-erlei Würstl (Wienerle\, Rostbratwurst und Käsekrainer) auf Bayrisch Kraut und Röstkartoffeln\nVegetarisch und Fern-Östlich: Nudelpfanne; gebratenes Gemüse in einer Soja-Kokossauce mit kurzen Nudeln\nSchwäbisch: Schwabenpfander’l; gegrillte Schweinefiletmedaillons mit Champignonrahmsauce dazu Marktgemüse und Butterspätzle\n\nTischreservierungen gerne online oder unter +49 (0) 89-7448840.
URL:https://hotelbuchenhain.de/event/winterliche-pfannengerichte/
ATTACH;FMTTYPE=image/jpeg:https://hotelbuchenhain.de/wp-content/uploads/2024/12/winterliche-pfannengerichte-im-restaurant-muenchen-sued.jpg
END:VEVENT
END:VCALENDAR