BEGIN:VCALENDAR
VERSION:2.0
PRODID:-//Waldgasthof Buchenhain | Hotel, Restaurant &amp; Biergarten - ECPv6.15.20//NONSGML v1.0//EN
CALSCALE:GREGORIAN
METHOD:PUBLISH
X-WR-CALNAME:Waldgasthof Buchenhain | Hotel, Restaurant &amp; Biergarten
X-ORIGINAL-URL:https://hotelbuchenhain.de
X-WR-CALDESC:Veranstaltungen für Waldgasthof Buchenhain | Hotel, Restaurant &amp; Biergarten
REFRESH-INTERVAL;VALUE=DURATION:PT1H
X-Robots-Tag:noindex
X-PUBLISHED-TTL:PT1H
BEGIN:VTIMEZONE
TZID:Europe/Berlin
BEGIN:DAYLIGHT
TZOFFSETFROM:+0100
TZOFFSETTO:+0200
TZNAME:CEST
DTSTART:20240331T010000
END:DAYLIGHT
BEGIN:STANDARD
TZOFFSETFROM:+0200
TZOFFSETTO:+0100
TZNAME:CET
DTSTART:20241027T010000
END:STANDARD
BEGIN:DAYLIGHT
TZOFFSETFROM:+0100
TZOFFSETTO:+0200
TZNAME:CEST
DTSTART:20250330T010000
END:DAYLIGHT
BEGIN:STANDARD
TZOFFSETFROM:+0200
TZOFFSETTO:+0100
TZNAME:CET
DTSTART:20251026T010000
END:STANDARD
BEGIN:DAYLIGHT
TZOFFSETFROM:+0100
TZOFFSETTO:+0200
TZNAME:CEST
DTSTART:20260329T010000
END:DAYLIGHT
BEGIN:STANDARD
TZOFFSETFROM:+0200
TZOFFSETTO:+0100
TZNAME:CET
DTSTART:20261025T010000
END:STANDARD
END:VTIMEZONE
BEGIN:VEVENT
DTSTART;TZID=Europe/Berlin:20250720T110000
DTEND;TZID=Europe/Berlin:20250720T110000
DTSTAMP:20260423T102126
CREATED:20250610T133013Z
LAST-MODIFIED:20250714T100936Z
UID:10000256-1753009200-1753009200@hotelbuchenhain.de
SUMMARY:WALDFEST
DESCRIPTION:Zwei Tage Ausnahmezustand voller Programm & Schmankerl: Unser Waldfest 2025 \nAm Sonntag wird’s zünftig! Um 11 Uhr ist Einlass und ab 12 Uhr spielt die Mühlberg Musi. Ab 14:30 Uhr geht es weiter mit Adi Stahuber und seine Isartaler Blasmusik sowie Sepp Eibelsgruber und seine Freunde der Blasmusik ab 17 Uhr. \nDazu gibt es ein buntes Programm mit Goaßlschnalzer\, Trachtenverein\, Böllerschützen\, Munich Showgirls\, Kinderprogramm mit Kinderschminken\, Comedy-Kellner\,  Kasperltheater und Clown. \nDer Eintritt ist frei\, aber um eine Reservierung wird gebeten. \nWir freuen uns auf Ihr Kommen!
URL:https://hotelbuchenhain.de/event/waldfest-6/
ATTACH;FMTTYPE=image/webp:https://hotelbuchenhain.de/wp-content/uploads/2025/06/waldfest-2025.webp
END:VEVENT
END:VCALENDAR