BEGIN:VCALENDAR
VERSION:2.0
PRODID:-//Waldgasthof Buchenhain | Hotel, Restaurant &amp; Biergarten - ECPv6.15.20//NONSGML v1.0//EN
CALSCALE:GREGORIAN
METHOD:PUBLISH
X-WR-CALNAME:Waldgasthof Buchenhain | Hotel, Restaurant &amp; Biergarten
X-ORIGINAL-URL:https://hotelbuchenhain.de
X-WR-CALDESC:Veranstaltungen für Waldgasthof Buchenhain | Hotel, Restaurant &amp; Biergarten
REFRESH-INTERVAL;VALUE=DURATION:PT1H
X-Robots-Tag:noindex
X-PUBLISHED-TTL:PT1H
BEGIN:VTIMEZONE
TZID:Europe/Berlin
BEGIN:DAYLIGHT
TZOFFSETFROM:+0100
TZOFFSETTO:+0200
TZNAME:CEST
DTSTART:20240331T010000
END:DAYLIGHT
BEGIN:STANDARD
TZOFFSETFROM:+0200
TZOFFSETTO:+0100
TZNAME:CET
DTSTART:20241027T010000
END:STANDARD
BEGIN:DAYLIGHT
TZOFFSETFROM:+0100
TZOFFSETTO:+0200
TZNAME:CEST
DTSTART:20250330T010000
END:DAYLIGHT
BEGIN:STANDARD
TZOFFSETFROM:+0200
TZOFFSETTO:+0100
TZNAME:CET
DTSTART:20251026T010000
END:STANDARD
BEGIN:DAYLIGHT
TZOFFSETFROM:+0100
TZOFFSETTO:+0200
TZNAME:CEST
DTSTART:20260329T010000
END:DAYLIGHT
BEGIN:STANDARD
TZOFFSETFROM:+0200
TZOFFSETTO:+0100
TZNAME:CET
DTSTART:20261025T010000
END:STANDARD
END:VTIMEZONE
BEGIN:VEVENT
DTSTART;TZID=Europe/Berlin:20250801T180000
DTEND;TZID=Europe/Berlin:20250801T180000
DTSTAMP:20260423T084144
CREATED:20250610T135256Z
LAST-MODIFIED:20250728T075043Z
UID:10000260-1754071200-1754071200@hotelbuchenhain.de
SUMMARY:SUMMER OF SOUL
DESCRIPTION:Fünf Sommerabende\, fünfmal Gänsehaut – unser musikalischer August bringt Soul auf die Waldbühne. Am 01. August soult das Anton Stüzer Trio in unserem Biergarten. \nLieblings-Cocktail in der Hand\, gute Musik im Ohr: der perfekte Freitag. \nDer Eintritt ist frei. \nTischreservierungen gerne online oder unter +49 (0) 89-7448840.
URL:https://hotelbuchenhain.de/event/summer-of-soul/
ATTACH;FMTTYPE=image/webp:https://hotelbuchenhain.de/wp-content/uploads/2025/06/summer-of-soul-im-august.webp
END:VEVENT
END:VCALENDAR