BEGIN:VCALENDAR
VERSION:2.0
PRODID:-//Waldgasthof Buchenhain | Hotel, Restaurant &amp; Biergarten - ECPv6.15.20//NONSGML v1.0//EN
CALSCALE:GREGORIAN
METHOD:PUBLISH
X-WR-CALNAME:Waldgasthof Buchenhain | Hotel, Restaurant &amp; Biergarten
X-ORIGINAL-URL:https://hotelbuchenhain.de
X-WR-CALDESC:Veranstaltungen für Waldgasthof Buchenhain | Hotel, Restaurant &amp; Biergarten
REFRESH-INTERVAL;VALUE=DURATION:PT1H
X-Robots-Tag:noindex
X-PUBLISHED-TTL:PT1H
BEGIN:VTIMEZONE
TZID:Europe/Berlin
BEGIN:DAYLIGHT
TZOFFSETFROM:+0100
TZOFFSETTO:+0200
TZNAME:CEST
DTSTART:20240331T010000
END:DAYLIGHT
BEGIN:STANDARD
TZOFFSETFROM:+0200
TZOFFSETTO:+0100
TZNAME:CET
DTSTART:20241027T010000
END:STANDARD
BEGIN:DAYLIGHT
TZOFFSETFROM:+0100
TZOFFSETTO:+0200
TZNAME:CEST
DTSTART:20250330T010000
END:DAYLIGHT
BEGIN:STANDARD
TZOFFSETFROM:+0200
TZOFFSETTO:+0100
TZNAME:CET
DTSTART:20251026T010000
END:STANDARD
BEGIN:DAYLIGHT
TZOFFSETFROM:+0100
TZOFFSETTO:+0200
TZNAME:CEST
DTSTART:20260329T010000
END:DAYLIGHT
BEGIN:STANDARD
TZOFFSETFROM:+0200
TZOFFSETTO:+0100
TZNAME:CET
DTSTART:20261025T010000
END:STANDARD
END:VTIMEZONE
BEGIN:VEVENT
DTSTART;VALUE=DATE:20250920
DTEND;VALUE=DATE:20251006
DTSTAMP:20260423T071334
CREATED:20250610T140338Z
LAST-MODIFIED:20250915T144939Z
UID:10000267-1758326400-1759708799@hotelbuchenhain.de
SUMMARY:WIESN-SCHMANKERL
DESCRIPTION:O’zapft is – bei uns genauso wie auf der Wiesn. \nFreuen Sie sich auf Oktoberfest-Klassiker\, wie: \n\n– Leberknödelsuppe mit Schnittlauch\n– Deftiges Brotzeitbrettl\n– Schweinshaxe mit Kartoffelknödel und Krautsalat\n– Kalbshaxe auf Bayerisch Kraut mit Semmelknödel\n– Wiesn-Grillhendl mit Kartoffelsalat oder Pommes Frites\n– Dampfnudel aus dem Rohr mit Mohn und Vanillesoße \n\nTischreservierung gerne online oder unter +49 (0) 89-7448840.
URL:https://hotelbuchenhain.de/event/wiesn-schmankerl-4/
ATTACH;FMTTYPE=image/webp:https://hotelbuchenhain.de/wp-content/uploads/2025/06/wiesn-schmankerl-im-restaurant-und-biergarten-muenchen-sued.webp
END:VEVENT
END:VCALENDAR