BEGIN:VCALENDAR
VERSION:2.0
PRODID:-//Waldgasthof Buchenhain | Hotel, Restaurant &amp; Biergarten - ECPv6.15.20//NONSGML v1.0//EN
CALSCALE:GREGORIAN
METHOD:PUBLISH
X-WR-CALNAME:Waldgasthof Buchenhain | Hotel, Restaurant &amp; Biergarten
X-ORIGINAL-URL:https://hotelbuchenhain.de
X-WR-CALDESC:Veranstaltungen für Waldgasthof Buchenhain | Hotel, Restaurant &amp; Biergarten
REFRESH-INTERVAL;VALUE=DURATION:PT1H
X-Robots-Tag:noindex
X-PUBLISHED-TTL:PT1H
BEGIN:VTIMEZONE
TZID:Europe/Berlin
BEGIN:DAYLIGHT
TZOFFSETFROM:+0100
TZOFFSETTO:+0200
TZNAME:CEST
DTSTART:20240331T010000
END:DAYLIGHT
BEGIN:STANDARD
TZOFFSETFROM:+0200
TZOFFSETTO:+0100
TZNAME:CET
DTSTART:20241027T010000
END:STANDARD
BEGIN:DAYLIGHT
TZOFFSETFROM:+0100
TZOFFSETTO:+0200
TZNAME:CEST
DTSTART:20250330T010000
END:DAYLIGHT
BEGIN:STANDARD
TZOFFSETFROM:+0200
TZOFFSETTO:+0100
TZNAME:CET
DTSTART:20251026T010000
END:STANDARD
BEGIN:DAYLIGHT
TZOFFSETFROM:+0100
TZOFFSETTO:+0200
TZNAME:CEST
DTSTART:20260329T010000
END:DAYLIGHT
BEGIN:STANDARD
TZOFFSETFROM:+0200
TZOFFSETTO:+0100
TZNAME:CET
DTSTART:20261025T010000
END:STANDARD
END:VTIMEZONE
BEGIN:VEVENT
DTSTART;VALUE=DATE:20251113
DTEND;VALUE=DATE:20251124
DTSTAMP:20260423T035702
CREATED:20250610T142235Z
LAST-MODIFIED:20251112T085900Z
UID:10000276-1762992000-1763942399@hotelbuchenhain.de
SUMMARY:WILDWOCHEN
DESCRIPTION:Hirsch\, Reh\, Wildschwein – fein zubereitet mit herbstlichen Aromen. \nUnsere Wildkarte bringt Geschmack auf den Teller: \n– Hirschschnitzel mit Preiselbeeren\, Rahmkohlrabi und Kartoffel-Krapfen\n– Wildentenbrust im Speckmantel auf lauwarmem Blaukrautsalat mit Walnüssen und Orangendressing\n– Wildschweinbackerl auf Kartoffelpüree mit gegrilltem Spitzkohl\n– Sauerbraten vom Hirsch an Kirschsoße mit gebratenem Serviettenknödel\n– Wilde Waldpilze auf Risotto\n– Wildschweinbratwurst \nTischreservierungen bitte online oder unter +49 (0) 89-7448840.
URL:https://hotelbuchenhain.de/event/wildwochen-2/
ATTACH;FMTTYPE=image/jpeg:https://hotelbuchenhain.de/wp-content/uploads/2024/05/wildwochen-im-november.jpg
END:VEVENT
BEGIN:VEVENT
DTSTART;TZID=Europe/Berlin:20251121T180000
DTEND;TZID=Europe/Berlin:20251121T180000
DTSTAMP:20260423T035702
CREATED:20250610T142105Z
LAST-MODIFIED:20251020T075115Z
UID:10000275-1763748000-1763748000@hotelbuchenhain.de
SUMMARY:GESCHICHTEN DINNER MIT PROF. MUCK STELZLE
DESCRIPTION:Zeit für Geschichten vom Bayerischen Bier mit Prof. W. Stelzle! \nFreuen Sie sich ab 18 Uhr auf ein 3-Gang-Dinner und „bierige“ Erzählungen. \nDas Menü: \nGlas Winzer Sekt rosé oder kleines Bier\n***\nKürbiscremesuppe mit Walnuss-Croûtons und Kernöl\n***\nBierbraten von der Spanferkelkrone in Dunkelbiersauce mit Bayrisch Kraut und Brezenknödel \nODER \n\nHerbsttrompeten\, Palmkohl und Kirschtomaten mit Brezenknödel (vegetarisch)\n***\nHausgemachtes Nougat-Kernöl-Parfait mit warmem Waldbeer-Ragout\n\nPreis pro Person: €65\,-\n\nWir bitten um frühzeitige Anmeldung unter info@hotelbuchenhain.de oder unter +49 (0) 89-7448840. \nAnrufen\nPer E-Mail anmelden
URL:https://hotelbuchenhain.de/event/geschichten-dinner-mit-prof-muck-stelzle-3/
ATTACH;FMTTYPE=image/jpeg:https://hotelbuchenhain.de/wp-content/uploads/2022/01/geschichten-dinner-muenchen-sued.jpg
END:VEVENT
END:VCALENDAR