BEGIN:VCALENDAR
VERSION:2.0
PRODID:-//Waldgasthof Buchenhain | Hotel, Restaurant &amp; Biergarten - ECPv6.15.20//NONSGML v1.0//EN
CALSCALE:GREGORIAN
METHOD:PUBLISH
X-ORIGINAL-URL:https://hotelbuchenhain.de
X-WR-CALDESC:Veranstaltungen für Waldgasthof Buchenhain | Hotel, Restaurant &amp; Biergarten
REFRESH-INTERVAL;VALUE=DURATION:PT1H
X-Robots-Tag:noindex
X-PUBLISHED-TTL:PT1H
BEGIN:VTIMEZONE
TZID:Europe/Berlin
BEGIN:DAYLIGHT
TZOFFSETFROM:+0100
TZOFFSETTO:+0200
TZNAME:CEST
DTSTART:20240331T010000
END:DAYLIGHT
BEGIN:STANDARD
TZOFFSETFROM:+0200
TZOFFSETTO:+0100
TZNAME:CET
DTSTART:20241027T010000
END:STANDARD
BEGIN:DAYLIGHT
TZOFFSETFROM:+0100
TZOFFSETTO:+0200
TZNAME:CEST
DTSTART:20250330T010000
END:DAYLIGHT
BEGIN:STANDARD
TZOFFSETFROM:+0200
TZOFFSETTO:+0100
TZNAME:CET
DTSTART:20251026T010000
END:STANDARD
BEGIN:DAYLIGHT
TZOFFSETFROM:+0100
TZOFFSETTO:+0200
TZNAME:CEST
DTSTART:20260329T010000
END:DAYLIGHT
BEGIN:STANDARD
TZOFFSETFROM:+0200
TZOFFSETTO:+0100
TZNAME:CET
DTSTART:20261025T010000
END:STANDARD
END:VTIMEZONE
BEGIN:VEVENT
DTSTART;TZID=Europe/Berlin:20251214T140000
DTEND;TZID=Europe/Berlin:20251214T210000
DTSTAMP:20260423T035918
CREATED:20250610T142703Z
LAST-MODIFIED:20251214T210006Z
UID:10000281-1765720800-1765746000@hotelbuchenhain.de
SUMMARY:BUCHENHAINER WALDWEIHNACHT
DESCRIPTION:Wir feiern die Vorweihnachtszeit im weihnachtlichen Biergarten\, mit Glühwein\, Feuerstellen und Lichterglanz. \nDazu gibt es Live-Musik von der Mühlberg Musi\, Adi Stahuber & seiner Isartaler Blasmusik und Malis Christmas Swing Connection. Der Nikolaus besucht uns ab 15:30 Uhr. \nAb 14:00 Uhr geht’s los! Findet nur bei trockenem Wetter statt. \nDie Buchenhainer Waldweihnacht bei uns im Waldgasthof! \n 
URL:https://hotelbuchenhain.de/event/buchenhainer-waldweihnacht-3/
ATTACH;FMTTYPE=image/jpeg:https://hotelbuchenhain.de/wp-content/uploads/2024/05/buchenhainer-waldweihnacht-mit-blasmusik-1.jpg
END:VEVENT
END:VCALENDAR