BEGIN:VCALENDAR
VERSION:2.0
PRODID:-//Waldgasthof Buchenhain | Hotel, Restaurant &amp; Biergarten - ECPv6.15.20//NONSGML v1.0//EN
CALSCALE:GREGORIAN
METHOD:PUBLISH
X-WR-CALNAME:Waldgasthof Buchenhain | Hotel, Restaurant &amp; Biergarten
X-ORIGINAL-URL:https://hotelbuchenhain.de
X-WR-CALDESC:Veranstaltungen für Waldgasthof Buchenhain | Hotel, Restaurant &amp; Biergarten
REFRESH-INTERVAL;VALUE=DURATION:PT1H
X-Robots-Tag:noindex
X-PUBLISHED-TTL:PT1H
BEGIN:VTIMEZONE
TZID:Europe/Berlin
BEGIN:DAYLIGHT
TZOFFSETFROM:+0100
TZOFFSETTO:+0200
TZNAME:CEST
DTSTART:20250330T010000
END:DAYLIGHT
BEGIN:STANDARD
TZOFFSETFROM:+0200
TZOFFSETTO:+0100
TZNAME:CET
DTSTART:20251026T010000
END:STANDARD
BEGIN:DAYLIGHT
TZOFFSETFROM:+0100
TZOFFSETTO:+0200
TZNAME:CEST
DTSTART:20260329T010000
END:DAYLIGHT
BEGIN:STANDARD
TZOFFSETFROM:+0200
TZOFFSETTO:+0100
TZNAME:CET
DTSTART:20261025T010000
END:STANDARD
BEGIN:DAYLIGHT
TZOFFSETFROM:+0100
TZOFFSETTO:+0200
TZNAME:CEST
DTSTART:20270328T010000
END:DAYLIGHT
BEGIN:STANDARD
TZOFFSETFROM:+0200
TZOFFSETTO:+0100
TZNAME:CET
DTSTART:20271031T010000
END:STANDARD
END:VTIMEZONE
BEGIN:VEVENT
DTSTART;VALUE=DATE:20260117
DTEND;VALUE=DATE:20260126
DTSTAMP:20260421T181350
CREATED:20251202T132345Z
LAST-MODIFIED:20260112T110227Z
UID:10000283-1768608000-1769385599@hotelbuchenhain.de
SUMMARY:WINTERLICHE EINTÖPFE
DESCRIPTION:Der Winter bei uns ist herzhaft! \nLassen Sie sich mit kräftigen Eintöpfen und deftigem „Seelenfutter“ verwöhnen. Genau das Richtige für kalte Tage. \n\nGrüne-Bohnen-Eintopf mit Ochsen-Tafelspitzwürfel\nSüßkartoffel-Kichererbsen-Eintopf mit Chili und Minze-Joghurt\nSchwäbischer Linseneintopf mit Wienerle\nKartoffelsuppe mit Majoran\nBurgunder Rindfleischeintopf mit Crème Fraîche und Spätzle\n\nTischreservierungen gerne online oder unter +49 (0) 89-7448840.
URL:https://hotelbuchenhain.de/event/winterliche-eintoepfe/
ATTACH;FMTTYPE=image/webp:https://hotelbuchenhain.de/wp-content/uploads/2025/12/winterliche-eintoepfe-restaurant-muenchen-sued.webp
END:VEVENT
END:VCALENDAR