BEGIN:VCALENDAR
VERSION:2.0
PRODID:-//Waldgasthof Buchenhain | Hotel, Restaurant &amp; Biergarten - ECPv6.15.20//NONSGML v1.0//EN
CALSCALE:GREGORIAN
METHOD:PUBLISH
X-ORIGINAL-URL:https://hotelbuchenhain.de
X-WR-CALDESC:Veranstaltungen für Waldgasthof Buchenhain | Hotel, Restaurant &amp; Biergarten
REFRESH-INTERVAL;VALUE=DURATION:PT1H
X-Robots-Tag:noindex
X-PUBLISHED-TTL:PT1H
BEGIN:VTIMEZONE
TZID:Europe/Berlin
BEGIN:DAYLIGHT
TZOFFSETFROM:+0100
TZOFFSETTO:+0200
TZNAME:CEST
DTSTART:20250330T010000
END:DAYLIGHT
BEGIN:STANDARD
TZOFFSETFROM:+0200
TZOFFSETTO:+0100
TZNAME:CET
DTSTART:20251026T010000
END:STANDARD
BEGIN:DAYLIGHT
TZOFFSETFROM:+0100
TZOFFSETTO:+0200
TZNAME:CEST
DTSTART:20260329T010000
END:DAYLIGHT
BEGIN:STANDARD
TZOFFSETFROM:+0200
TZOFFSETTO:+0100
TZNAME:CET
DTSTART:20261025T010000
END:STANDARD
BEGIN:DAYLIGHT
TZOFFSETFROM:+0100
TZOFFSETTO:+0200
TZNAME:CEST
DTSTART:20270328T010000
END:DAYLIGHT
BEGIN:STANDARD
TZOFFSETFROM:+0200
TZOFFSETTO:+0100
TZNAME:CET
DTSTART:20271031T010000
END:STANDARD
END:VTIMEZONE
BEGIN:VEVENT
DTSTART;VALUE=DATE:20260218
DTEND;VALUE=DATE:20260225
DTSTAMP:20260420T184848
CREATED:20251202T134040Z
LAST-MODIFIED:20260202T103803Z
UID:10000289-1771372800-1771977599@hotelbuchenhain.de
SUMMARY:FISCHWOCHE
DESCRIPTION:Kommen Sie auf den Geschmack! \nIn unserer Fischwoche bieten wir Ihnen köstliche Gerichte aus See und Meer – für alle Liebhaber der Fischküche: \n\nMatjes Filet nach Hausfrauen Art mit kleinen Petersilienkartoffeln\nFlammlachs mit Rösti\, Feldsalat und Orangen-Schmand\nHummercremesuppe\nTagliatelle mit Shrimps/ Flußkrebsen\nSaibling „Müllerin Art“ im Ganzen gebraten für zwei Personen mit Tomaten-Mandel-Butter dazu Wurzelspinat & Ofendrillingen\nKabeljau mit Zitronen-Parmesan-Kruste auf Polenta mit konfierten Kirschtomaten\nGegrillter Pulpo auf Fragola Sarda (sardinische Nudelart aus Hartweizengrieß in kleiner Kugelform)\n\nTischreservierungen gerne online oder unter +49 (0) 89-7448840.
URL:https://hotelbuchenhain.de/event/fischwoche/
ATTACH;FMTTYPE=image/jpeg:https://hotelbuchenhain.de/wp-content/uploads/2024/12/fischwochen-im-restaurant-muenchen.jpg
END:VEVENT
END:VCALENDAR