BEGIN:VCALENDAR
VERSION:2.0
PRODID:-//Waldgasthof Buchenhain | Hotel, Restaurant &amp; Biergarten - ECPv6.15.20//NONSGML v1.0//EN
CALSCALE:GREGORIAN
METHOD:PUBLISH
X-ORIGINAL-URL:https://hotelbuchenhain.de
X-WR-CALDESC:Veranstaltungen für Waldgasthof Buchenhain | Hotel, Restaurant &amp; Biergarten
REFRESH-INTERVAL;VALUE=DURATION:PT1H
X-Robots-Tag:noindex
X-PUBLISHED-TTL:PT1H
BEGIN:VTIMEZONE
TZID:Europe/Berlin
BEGIN:DAYLIGHT
TZOFFSETFROM:+0100
TZOFFSETTO:+0200
TZNAME:CEST
DTSTART:20250330T010000
END:DAYLIGHT
BEGIN:STANDARD
TZOFFSETFROM:+0200
TZOFFSETTO:+0100
TZNAME:CET
DTSTART:20251026T010000
END:STANDARD
BEGIN:DAYLIGHT
TZOFFSETFROM:+0100
TZOFFSETTO:+0200
TZNAME:CEST
DTSTART:20260329T010000
END:DAYLIGHT
BEGIN:STANDARD
TZOFFSETFROM:+0200
TZOFFSETTO:+0100
TZNAME:CET
DTSTART:20261025T010000
END:STANDARD
BEGIN:DAYLIGHT
TZOFFSETFROM:+0100
TZOFFSETTO:+0200
TZNAME:CEST
DTSTART:20270328T010000
END:DAYLIGHT
BEGIN:STANDARD
TZOFFSETFROM:+0200
TZOFFSETTO:+0100
TZNAME:CET
DTSTART:20271031T010000
END:STANDARD
END:VTIMEZONE
BEGIN:VEVENT
DTSTART;TZID=Europe/Berlin:20260306T183000
DTEND;TZID=Europe/Berlin:20260306T223000
DTSTAMP:20260420T190058
CREATED:20251202T134244Z
LAST-MODIFIED:20260222T131732Z
UID:10000290-1772821800-1772836200@hotelbuchenhain.de
SUMMARY:GESCHICHTEN DINNER MIT PROF. MUCK STELZLE
DESCRIPTION:Lassen Sie sich bei unserem Geschichten Dinner von spannenden Erzählungen zum Thema „Münchner Bohème“\, gelesen von Prof. Muck Stelzle\, und einem 3-Gänge-Menü verwöhnen. \nDazu gibt es musikalische Begleitung von Andi Sieber auf der Ziehharmonika. \nDas Menü: \nGlas Winzer Sekt rosé oder weiß \n*** \nErbsen-Minz-Suppe \n*** \nHausgemachte Rinderroulade mit Kümmel-Speckjus\, buntem Karottengemüse und Kartoffelpüree \nODER \nLinsen-Pflanzerl mit Rahmwirsing und Herzoginkartoffeln (vegetarisch) \n*** \nKaramellisierter Kaiserschmarr’n mit Apfelmus \nWir bitten um frühzeitige Anmeldung unter info@hotelbuchenhain.de oder unter +49 (0) 89-7448840. \nAnrufen\nPer E-Mail anmelden
URL:https://hotelbuchenhain.de/event/geschichten-dinner-mit-prof-muck-stelzle-4/
ATTACH;FMTTYPE=image/jpeg:https://hotelbuchenhain.de/wp-content/uploads/2022/01/geschichten-dinner-muenchen-sued.jpg
END:VEVENT
END:VCALENDAR