BEGIN:VCALENDAR
VERSION:2.0
PRODID:-//Waldgasthof Buchenhain | Hotel, Restaurant &amp; Biergarten - ECPv6.15.20//NONSGML v1.0//EN
CALSCALE:GREGORIAN
METHOD:PUBLISH
X-WR-CALNAME:Waldgasthof Buchenhain | Hotel, Restaurant &amp; Biergarten
X-ORIGINAL-URL:https://hotelbuchenhain.de
X-WR-CALDESC:Veranstaltungen für Waldgasthof Buchenhain | Hotel, Restaurant &amp; Biergarten
REFRESH-INTERVAL;VALUE=DURATION:PT1H
X-Robots-Tag:noindex
X-PUBLISHED-TTL:PT1H
BEGIN:VTIMEZONE
TZID:Europe/Berlin
BEGIN:DAYLIGHT
TZOFFSETFROM:+0100
TZOFFSETTO:+0200
TZNAME:CEST
DTSTART:20250330T010000
END:DAYLIGHT
BEGIN:STANDARD
TZOFFSETFROM:+0200
TZOFFSETTO:+0100
TZNAME:CET
DTSTART:20251026T010000
END:STANDARD
BEGIN:DAYLIGHT
TZOFFSETFROM:+0100
TZOFFSETTO:+0200
TZNAME:CEST
DTSTART:20260329T010000
END:DAYLIGHT
BEGIN:STANDARD
TZOFFSETFROM:+0200
TZOFFSETTO:+0100
TZNAME:CET
DTSTART:20261025T010000
END:STANDARD
BEGIN:DAYLIGHT
TZOFFSETFROM:+0100
TZOFFSETTO:+0200
TZNAME:CEST
DTSTART:20270328T010000
END:DAYLIGHT
BEGIN:STANDARD
TZOFFSETFROM:+0200
TZOFFSETTO:+0100
TZNAME:CET
DTSTART:20271031T010000
END:STANDARD
END:VTIMEZONE
BEGIN:VEVENT
DTSTART;VALUE=DATE:20260403
DTEND;VALUE=DATE:20260405
DTSTAMP:20260420T172857
CREATED:20251202T134813Z
LAST-MODIFIED:20260330T075433Z
UID:10000293-1775181600-1775267999@hotelbuchenhain.de
SUMMARY:KARFREITAG = FISCHTAG
DESCRIPTION:Am Karfreitag servieren wir ganz traditionell fangfrische Fischgerichte\, die den Frühling auf den Teller holen. \nFür alle\, die es leicht und klassisch mögen: \n\nGegrilltes Doradenfilet auf cremiger Polenta mit konfierten Kirschtomaten\nGanzer Saibling zum Selbstfiletieren\nMatjes nach Hausfrauenart mit Salzkartoffeln\nFlammlachs\, hausgeräuchert\, mit wetterabhängiger Beilage\nGebratene Jakobsmuscheln im Brunnenkresse-Süppchen\nGegrillte Lachsforelle von der Aumühle auf lauwarmem Fenchel-Apfel-Salat\nFischsuppe\n\nTischreservierungen gerne online oder unter +49 (0) 89-7448840.
URL:https://hotelbuchenhain.de/event/karfreitag-fischtag/
ATTACH;FMTTYPE=image/jpeg:https://hotelbuchenhain.de/wp-content/uploads/2022/01/fischwochen-waldgasthof-buchenhain.jpg
END:VEVENT
END:VCALENDAR