BEGIN:VCALENDAR
VERSION:2.0
PRODID:-//Waldgasthof Buchenhain | Hotel, Restaurant &amp; Biergarten - ECPv6.15.20//NONSGML v1.0//EN
CALSCALE:GREGORIAN
METHOD:PUBLISH
X-ORIGINAL-URL:https://hotelbuchenhain.de
X-WR-CALDESC:Veranstaltungen für Waldgasthof Buchenhain | Hotel, Restaurant &amp; Biergarten
REFRESH-INTERVAL;VALUE=DURATION:PT1H
X-Robots-Tag:noindex
X-PUBLISHED-TTL:PT1H
BEGIN:VTIMEZONE
TZID:Europe/Berlin
BEGIN:DAYLIGHT
TZOFFSETFROM:+0100
TZOFFSETTO:+0200
TZNAME:CEST
DTSTART:20250330T010000
END:DAYLIGHT
BEGIN:STANDARD
TZOFFSETFROM:+0200
TZOFFSETTO:+0100
TZNAME:CET
DTSTART:20251026T010000
END:STANDARD
BEGIN:DAYLIGHT
TZOFFSETFROM:+0100
TZOFFSETTO:+0200
TZNAME:CEST
DTSTART:20260329T010000
END:DAYLIGHT
BEGIN:STANDARD
TZOFFSETFROM:+0200
TZOFFSETTO:+0100
TZNAME:CET
DTSTART:20261025T010000
END:STANDARD
BEGIN:DAYLIGHT
TZOFFSETFROM:+0100
TZOFFSETTO:+0200
TZNAME:CEST
DTSTART:20270328T010000
END:DAYLIGHT
BEGIN:STANDARD
TZOFFSETFROM:+0200
TZOFFSETTO:+0100
TZNAME:CET
DTSTART:20271031T010000
END:STANDARD
END:VTIMEZONE
BEGIN:VEVENT
DTSTART;VALUE=DATE:20260510
DTEND;VALUE=DATE:20260511
DTSTAMP:20260420T171049
CREATED:20251202T142742Z
LAST-MODIFIED:20260413T075030Z
UID:10000297-1778371200-1778457599@hotelbuchenhain.de
SUMMARY:MUTTERTAG
DESCRIPTION:Ein Hoch auf alle Mamas! \nWir feiern den Muttertag mit einem besonderen Menü und einer kleinen Überraschung für alle Mütter. \nTischreservierungen gerne online oder unter +49 (0) 89-7448840. \n 
URL:https://hotelbuchenhain.de/event/muttertag-4/
ATTACH;FMTTYPE=image/webp:https://hotelbuchenhain.de/wp-content/uploads/2025/12/muttertag-im-gasthof-bei-muenchen.webp
END:VEVENT
END:VCALENDAR