BEGIN:VCALENDAR
VERSION:2.0
PRODID:-//Waldgasthof Buchenhain | Hotel, Restaurant &amp; Biergarten - ECPv6.15.20//NONSGML v1.0//EN
CALSCALE:GREGORIAN
METHOD:PUBLISH
X-WR-CALNAME:Waldgasthof Buchenhain | Hotel, Restaurant &amp; Biergarten
X-ORIGINAL-URL:https://hotelbuchenhain.de
X-WR-CALDESC:Veranstaltungen für Waldgasthof Buchenhain | Hotel, Restaurant &amp; Biergarten
REFRESH-INTERVAL;VALUE=DURATION:PT1H
X-Robots-Tag:noindex
X-PUBLISHED-TTL:PT1H
BEGIN:VTIMEZONE
TZID:Europe/Berlin
BEGIN:DAYLIGHT
TZOFFSETFROM:+0100
TZOFFSETTO:+0200
TZNAME:CEST
DTSTART:20230326T010000
END:DAYLIGHT
BEGIN:STANDARD
TZOFFSETFROM:+0200
TZOFFSETTO:+0100
TZNAME:CET
DTSTART:20231029T010000
END:STANDARD
BEGIN:DAYLIGHT
TZOFFSETFROM:+0100
TZOFFSETTO:+0200
TZNAME:CEST
DTSTART:20240331T010000
END:DAYLIGHT
BEGIN:STANDARD
TZOFFSETFROM:+0200
TZOFFSETTO:+0100
TZNAME:CET
DTSTART:20241027T010000
END:STANDARD
BEGIN:DAYLIGHT
TZOFFSETFROM:+0100
TZOFFSETTO:+0200
TZNAME:CEST
DTSTART:20250330T010000
END:DAYLIGHT
BEGIN:STANDARD
TZOFFSETFROM:+0200
TZOFFSETTO:+0100
TZNAME:CET
DTSTART:20251026T010000
END:STANDARD
END:VTIMEZONE
BEGIN:VEVENT
DTSTART;VALUE=DATE:20240921
DTEND;VALUE=DATE:20241008
DTSTAMP:20260423T221708
CREATED:20240507T093624Z
LAST-MODIFIED:20240902T074233Z
UID:10000217-1726884000-1728266399@hotelbuchenhain.de
SUMMARY:WIESN-SCHMANKERL
DESCRIPTION:O`zapft is! Die Wiesnschmankerl gibt es nicht nur auf dem Oktoberfest\, sondern natürlich auch bei uns! \nUnsere Wiesngerichte: \n\nBackfischfilet vom Rotbarsch mit Kartoffel-Gurkensalat und Remouladensauce\n½ Schweins-Hinterhaxe aus dem Rohr mit Kartoffelknödel und Speckkrautsalat\nWürst’l Trilogie\, 3-erlei Würstl (Feuerzipfel\, Chili-Bratwurst\, Wollwurst) auf Krautschupfnudeln\nGebackene Milzwurst mit Remouladensauce und Kartoffel-Schnittlauchsalat\nWies’n Burger mit O’batzda\, Speck\, Meerrettich\, Tomate und Gurke dazu Pommes Frites\nHausgemachter O’batzda mit Brot und Zwiebeln\nDeftiges Brotzeitbrett‘l mit Bauernbrot und Butter (Leberwurst\, Kaminwurz’n\, Wurzelspeck\, Landjäger\, Käse\, Essiggurke)\nHausgemachter Germknödel mit Mohnbutter und Vanillesauce\n\nTischreservierung gerne online oder unter +49 (0) 89-7448840.
URL:https://hotelbuchenhain.de/event/wiesn-schmankerl-3/
ATTACH;FMTTYPE=image/jpeg:https://hotelbuchenhain.de/wp-content/uploads/2024/05/wiesn-schmankerl-im-waldgasthof-scaled.jpg
END:VEVENT
BEGIN:VEVENT
DTSTART;TZID=Europe/Berlin:20241012T120000
DTEND;TZID=Europe/Berlin:20241012T120000
DTSTAMP:20260423T221708
CREATED:20240507T095029Z
LAST-MODIFIED:20240507T095029Z
UID:10000219-1728734400-1728734400@hotelbuchenhain.de
SUMMARY:OLDTIMERTREFFEN
DESCRIPTION:Neben tollen Oldtimern und kulinarischen Genüssen ist bei unserem 18. Oldtimertreffen auch musikalische Unterhaltung mit den Rock ’n Roll Petticoats geboten. \nFindet nur bei gutem Wetter statt!
URL:https://hotelbuchenhain.de/event/oldtimertreffen-5/
ATTACH;FMTTYPE=image/jpeg:https://hotelbuchenhain.de/wp-content/uploads/2024/05/oldtimertreffen-im-waldgasthof1.jpg
END:VEVENT
BEGIN:VEVENT
DTSTART;VALUE=DATE:20241020
DTEND;VALUE=DATE:20241021
DTSTAMP:20260423T221708
CREATED:20240507T095246Z
LAST-MODIFIED:20240507T095246Z
UID:10000220-1729382400-1729468799@hotelbuchenhain.de
SUMMARY:KIRCHWEIH
DESCRIPTION:Wir feiern Kirchweih und servieren ganz traditionell Ente\, Gans und Kirchweihnudel – lassen Sie es sich schmecken! \nBitte reservieren Sie rechtzeitig.
URL:https://hotelbuchenhain.de/event/kirchweih/
ATTACH;FMTTYPE=image/jpeg:https://hotelbuchenhain.de/wp-content/uploads/2023/09/bayerische-ente-im-restaurant-baierbrunn.jpg
END:VEVENT
BEGIN:VEVENT
DTSTART;TZID=Europe/Berlin:20241025T190000
DTEND;TZID=Europe/Berlin:20241025T190000
DTSTAMP:20260423T221708
CREATED:20240507T100007Z
LAST-MODIFIED:20240507T100007Z
UID:10000221-1729882800-1729882800@hotelbuchenhain.de
SUMMARY:SCHAFKOPFRENNEN
DESCRIPTION:„Mit oam Unta foist ned nunta.“ \nPacken Sie die Schafkopfkarten aus\, es ist Zeit für glückliche Händchen. Wir laden zum Schafkopfrennen ein und bitten um frühzeitige Anmeldung. Teilnahmegebühr € 15\,-. \n\nPreis: € 150\,-\nPreis: € 100\,-\n-6. Preis: Sach & Wertpreise\n\nBei weniger als 24 Teilnehmern halbiert sich das Preisgeld. \nWir bitten alle Spieler um rechtzeitige Anmeldung per E-Mail an info@hotelbuchenhain.de oder unter +49 89 744 88 40.
URL:https://hotelbuchenhain.de/event/schafkopfrennen-6/
ATTACH;FMTTYPE=image/jpeg:https://hotelbuchenhain.de/wp-content/uploads/2022/01/Schafkopfrennen_Waldgasthof_Buchenhain.jpg
END:VEVENT
BEGIN:VEVENT
DTSTART;TZID=Europe/Berlin:20241027T140000
DTEND;TZID=Europe/Berlin:20241027T170000
DTSTAMP:20260423T221708
CREATED:20240507T100207Z
LAST-MODIFIED:20240507T100207Z
UID:10000222-1730037600-1730048400@hotelbuchenhain.de
SUMMARY:KUCHENBUFFET MIT STUBENMUSIK
DESCRIPTION:Zeit für Gugelhupf & Sait’nzupf! \nGenießen Sie von 14 – 17 Uhr unsere Kuchen- und Kaffeespezialitäten und dazu Live-Stubenmusik. \nTischreservierungen gerne online oder unter +49 (0) 89-7448840.
URL:https://hotelbuchenhain.de/event/kuchenbuffet-mit-stubenmusik-7/
ATTACH;FMTTYPE=image/jpeg:https://hotelbuchenhain.de/wp-content/uploads/2022/01/kuchenbuffet_waldgasthof_buchenhain.jpg
END:VEVENT
END:VCALENDAR