BEGIN:VCALENDAR
VERSION:2.0
PRODID:-//Waldgasthof Buchenhain | Hotel, Restaurant &amp; Biergarten - ECPv6.15.20//NONSGML v1.0//EN
CALSCALE:GREGORIAN
METHOD:PUBLISH
X-ORIGINAL-URL:https://hotelbuchenhain.de
X-WR-CALDESC:Veranstaltungen für Waldgasthof Buchenhain | Hotel, Restaurant &amp; Biergarten
REFRESH-INTERVAL;VALUE=DURATION:PT1H
X-Robots-Tag:noindex
X-PUBLISHED-TTL:PT1H
BEGIN:VTIMEZONE
TZID:Europe/Berlin
BEGIN:DAYLIGHT
TZOFFSETFROM:+0100
TZOFFSETTO:+0200
TZNAME:CEST
DTSTART:20230326T010000
END:DAYLIGHT
BEGIN:STANDARD
TZOFFSETFROM:+0200
TZOFFSETTO:+0100
TZNAME:CET
DTSTART:20231029T010000
END:STANDARD
BEGIN:DAYLIGHT
TZOFFSETFROM:+0100
TZOFFSETTO:+0200
TZNAME:CEST
DTSTART:20240331T010000
END:DAYLIGHT
BEGIN:STANDARD
TZOFFSETFROM:+0200
TZOFFSETTO:+0100
TZNAME:CET
DTSTART:20241027T010000
END:STANDARD
BEGIN:DAYLIGHT
TZOFFSETFROM:+0100
TZOFFSETTO:+0200
TZNAME:CEST
DTSTART:20250330T010000
END:DAYLIGHT
BEGIN:STANDARD
TZOFFSETFROM:+0200
TZOFFSETTO:+0100
TZNAME:CET
DTSTART:20251026T010000
END:STANDARD
END:VTIMEZONE
BEGIN:VEVENT
DTSTART;TZID=Europe/Berlin:20241108T200000
DTEND;TZID=Europe/Berlin:20241108T200000
DTSTAMP:20260423T205206
CREATED:20240507T101005Z
LAST-MODIFIED:20241004T133039Z
UID:10000223-1731096000-1731096000@hotelbuchenhain.de
SUMMARY:CANDLE LIGHT DINNER
DESCRIPTION:Heut‘ wird’s romantisch! \nBei Kerzenschein und romantischem Ambiente bereiten wir ein köstliches 3-Gang-Menü mit Aperitif in der Antoniusstube. \nAuf die Liebe! \nDas Menü: \nWinzer Sekt rosé von Schloss Sommerhausen \n*** \nKürbiscremesuppe mit Kürbiskernen und Kernöl \n*** \nRinderfiletsteak mit Garnele dazu Marktgemüse und Kartoffelkrapfen \noder \nSamtiges Champignon-Risotto mit frischen Kräutern\, kleinen Tomaten und Grana Padano \n*** \nKaiserschmarrn mit Rumrosinen und Mandeln \nPreis: € 59\,00\,- pro Person \nBitte reservieren Sie rechtzeitig online oder unter +49 (0) 89-7448840. \nTisch reservieren
URL:https://hotelbuchenhain.de/event/candle-light-dinner-2/
ATTACH;FMTTYPE=image/jpeg:https://hotelbuchenhain.de/wp-content/uploads/2024/05/candle-light-dinner-im-waldgasthof-1.jpg
END:VEVENT
BEGIN:VEVENT
DTSTART;VALUE=DATE:20241111
DTEND;VALUE=DATE:20241112
DTSTAMP:20260423T205206
CREATED:20240507T101645Z
LAST-MODIFIED:20240507T101645Z
UID:10000224-1731283200-1731369599@hotelbuchenhain.de
SUMMARY:ST. MARTIN GANS ESSEN
DESCRIPTION:Gans oder gar nicht! Wir servieren ein Festessen am St. Martinstag\, mit Gans und anderen Köstlichkeiten. \nTischreservierung gerne online oder unter +49 (0) 89-7448840.
URL:https://hotelbuchenhain.de/event/st-martin-gans-essen-2/
ATTACH;FMTTYPE=image/jpeg:https://hotelbuchenhain.de/wp-content/uploads/2021/06/auch-an-weihnachten-gibt-es-unser-essen-zum-mitnehmen-1.jpeg
END:VEVENT
BEGIN:VEVENT
DTSTART;VALUE=DATE:20241112
DTEND;VALUE=DATE:20241124
DTSTAMP:20260423T205206
CREATED:20240507T102147Z
LAST-MODIFIED:20240507T102147Z
UID:10000225-1731369600-1732406399@hotelbuchenhain.de
SUMMARY:WILDWOCHEN
DESCRIPTION:Es wird wild im Waldgasthof! \nGenießen Sie zahlreiche Gerichte rund um Hirsch & Co. Perfekt für die herbstliche Jahreszeit. \nTischreservierungen bitte online oder unter +49 (0) 89-7448840.
URL:https://hotelbuchenhain.de/event/wildwochen/
ATTACH;FMTTYPE=image/jpeg:https://hotelbuchenhain.de/wp-content/uploads/2024/05/wildwochen-im-november.jpg
END:VEVENT
BEGIN:VEVENT
DTSTART;TZID=Europe/Berlin:20241115T190000
DTEND;TZID=Europe/Berlin:20241115T190000
DTSTAMP:20260423T205206
CREATED:20240507T102408Z
LAST-MODIFIED:20241024T073121Z
UID:10000226-1731697200-1731697200@hotelbuchenhain.de
SUMMARY:GESCHICHTEN DINNER MIT PROF. MUCK STELZLE
DESCRIPTION:Zeit für gespenstisch spannende Raunacht-Geschichten mit Prof. W. Stelzle! \nFreuen Sie sich ab 18 Uhr auf ein 3-Gang-Dinner mit Live-Musik von Andi Sieber an der Ziehharmonika. \nRaunachtsmenü: \nAperitif \n*** \nSüßkartoffelsuppe mit Petersilien-Biskuit \n*** \nKalbsrückenscheiben in Thymianjus mit sautierten Champignons dazu Schwarzwurzel und Kartoffelkrapfen \n*** \nLauwarmer Topfenknödel auf Zwetschgenröster mit Vanilleeis \nPreis: € 69\,00\,- pro Person \nWir bitten um frühzeitige Anmeldung unter info@hotelbuchenhain.de oder unter +49 (0) 89-7448840. \nAnrufen\nPer E-Mail anmelden
URL:https://hotelbuchenhain.de/event/geschichten-dinner-mit-prof-muck-stelzle/
ATTACH;FMTTYPE=image/jpeg:https://hotelbuchenhain.de/wp-content/uploads/2022/01/geschichten-dinner-muenchen-sued.jpg
END:VEVENT
BEGIN:VEVENT
DTSTART;TZID=Europe/Berlin:20241124T140000
DTEND;TZID=Europe/Berlin:20241124T170000
DTSTAMP:20260423T205206
CREATED:20240507T102618Z
LAST-MODIFIED:20240507T134728Z
UID:10000227-1732456800-1732467600@hotelbuchenhain.de
SUMMARY:KUCHENBUFFET MIT STUBENMUSIK
DESCRIPTION:Zeit für Gugelhupf & Sait’nzupf! \nGenießen Sie von 14 – 17 Uhr unsere Kuchen- und Kaffeespezialitäten und dazu Live-Stubenmusik. \nTischreservierungen gerne online oder unter +49 (0) 89-7448840.
URL:https://hotelbuchenhain.de/event/kuchenbuffet-mit-stubenmusik-8/
ATTACH;FMTTYPE=image/jpeg:https://hotelbuchenhain.de/wp-content/uploads/2022/01/kuchenbuffet_waldgasthof_buchenhain.jpg
END:VEVENT
END:VCALENDAR