BEGIN:VCALENDAR
VERSION:2.0
PRODID:-//Waldgasthof Buchenhain | Hotel, Restaurant &amp; Biergarten - ECPv6.15.20//NONSGML v1.0//EN
CALSCALE:GREGORIAN
METHOD:PUBLISH
X-ORIGINAL-URL:https://hotelbuchenhain.de
X-WR-CALDESC:Veranstaltungen für Waldgasthof Buchenhain | Hotel, Restaurant &amp; Biergarten
REFRESH-INTERVAL;VALUE=DURATION:PT1H
X-Robots-Tag:noindex
X-PUBLISHED-TTL:PT1H
BEGIN:VTIMEZONE
TZID:Europe/Berlin
BEGIN:DAYLIGHT
TZOFFSETFROM:+0100
TZOFFSETTO:+0200
TZNAME:CEST
DTSTART:20240331T010000
END:DAYLIGHT
BEGIN:STANDARD
TZOFFSETFROM:+0200
TZOFFSETTO:+0100
TZNAME:CET
DTSTART:20241027T010000
END:STANDARD
BEGIN:DAYLIGHT
TZOFFSETFROM:+0100
TZOFFSETTO:+0200
TZNAME:CEST
DTSTART:20250330T010000
END:DAYLIGHT
BEGIN:STANDARD
TZOFFSETFROM:+0200
TZOFFSETTO:+0100
TZNAME:CET
DTSTART:20251026T010000
END:STANDARD
BEGIN:DAYLIGHT
TZOFFSETFROM:+0100
TZOFFSETTO:+0200
TZNAME:CEST
DTSTART:20260329T010000
END:DAYLIGHT
BEGIN:STANDARD
TZOFFSETFROM:+0200
TZOFFSETTO:+0100
TZNAME:CET
DTSTART:20261025T010000
END:STANDARD
END:VTIMEZONE
BEGIN:VEVENT
DTSTART;VALUE=DATE:20250305
DTEND;VALUE=DATE:20250306
DTSTAMP:20260423T144155
CREATED:20241216T154240Z
LAST-MODIFIED:20250224T092006Z
UID:10000241-1741132800-1741219199@hotelbuchenhain.de
SUMMARY:ASCHERMITTWOCH
DESCRIPTION:Tradition trifft Genuss! \nAm Aschermittwoch locken unsere traditionellen\, frischen Fischgerichte – ein Genuss für alle Sinne. \nFreuen Sie sich auf: \n\n– Matjes Filet nach Hausfrauen Art mit kleinen Petersilienkartoffeln\n– Im Bierteig ausgebackener Karpfen mit Remoulade & Kartoffel-Gurken-Salat\n– Saibling „Müllerin Art“ im Ganzen gebraten für zwei Personen mit Tomaten-Mandel-Butter dazu Wurzelspinat & Ofendrillingen\n– Gezupfte leicht geräucherte Lachsforelle mit Tagliatelle und konfierten Kirschtomaten\n\nTischreservierungen gerne online oder unter +49 (0) 89-7448840.
URL:https://hotelbuchenhain.de/event/aschermittwoch/
ATTACH;FMTTYPE=image/jpeg:https://hotelbuchenhain.de/wp-content/uploads/2024/12/aschermittwoch-im-waldgasthof.jpg
END:VEVENT
BEGIN:VEVENT
DTSTART;VALUE=DATE:20250305
DTEND;VALUE=DATE:20250316
DTSTAMP:20260423T144155
CREATED:20241216T153830Z
LAST-MODIFIED:20250224T091618Z
UID:10000240-1741132800-1742083199@hotelbuchenhain.de
SUMMARY:FISCHWOCHEN
DESCRIPTION:Tauchen Sie ein in die Welt des Fisches! \nKöstliche Gerichte aus See und Meer stehen auf der Speisekarte: \n\n– Matjes Filet nach Hausfrauen Art mit kleinen Petersilienkartoffeln\n– Im Bierteig ausgebackener Karpfen mit Remoulade & Kartoffel-Gurken-Salat\n– Saibling „Müllerin Art“ im Ganzen gebraten für zwei Personen mit Tomaten-Mandel-Butter dazu Wurzelspinat & Ofendrillingen\n– Gezupfte leicht geräucherte Lachsforelle mit Tagliatelle und konfierten Kirschtomaten\n\nTischreservierungen gerne online oder unter +49 (0) 89-7448840.
URL:https://hotelbuchenhain.de/event/fischwochen/
ATTACH;FMTTYPE=image/jpeg:https://hotelbuchenhain.de/wp-content/uploads/2024/12/fischwochen-im-restaurant-muenchen.jpg
END:VEVENT
BEGIN:VEVENT
DTSTART;TZID=Europe/Berlin:20250321T200000
DTEND;TZID=Europe/Berlin:20250321T200000
DTSTAMP:20260423T144155
CREATED:20241217T120731Z
LAST-MODIFIED:20250310T081307Z
UID:10000253-1742587200-1742587200@hotelbuchenhain.de
SUMMARY:CANDLE LIGHT DINNER
DESCRIPTION:Heut‘ wird’s romantisch! \nFür alle\, die den Valentinstag verpasst haben: Verbringen Sie einen romantischen Abend bei Kerzenschein und genießen Sie unser exklusives 3-Gänge-Menü inkl. Aperitif. \nDas Menü: \nGlas Winzer Sekt  “Rosé de Saignée“ von Schloss Sommerhausen \n*** \nBärlauch-Cremesuppe mit Croûtons \n*** \nRosa gebratene Rinderhüfte mit gegrilltem grünem Spargel dazu Kartoffelkrapfen und Sauce Bernaise oder \nMorchel-Risotto mit gebratenem grünem Spargel \n*** \nHasel-Mousse mit Cassis-Sorbet \nAuf die Liebe! \nBitte reservieren Sie rechtzeitig online oder unter +49 (0) 89-7448840. \nTisch reservieren
URL:https://hotelbuchenhain.de/event/candle-light-dinner-3/
ATTACH;FMTTYPE=image/jpeg:https://hotelbuchenhain.de/wp-content/uploads/2024/05/candle-light-dinner-im-waldgasthof-1.jpg
END:VEVENT
BEGIN:VEVENT
DTSTART;VALUE=DATE:20250329
DTEND;VALUE=DATE:20250413
DTSTAMP:20260423T144155
CREATED:20241216T155014Z
LAST-MODIFIED:20250317T084303Z
UID:10000243-1743206400-1744502399@hotelbuchenhain.de
SUMMARY:ES WIRD WIEDER GESCHNITZELT!
DESCRIPTION:Es wird geschnitzelt! \nFreuen Sie sich auf vielfältige Schnitzel-Variationen – für jeden Geschmack ist etwas dabei! \nVorspeisen: \n\nKleines Schnitzel vom Kräuterseitling mit Tatarsauce und Salatbouquet\nBuchenhain Salat – Blattsalat (Joghurtdressing\, Brezncroûtons\, Radieserl\, Kresse\, gerösteten Sonnenblumenkernen\, Gurke und Kirschtomaten) mit Backhendl\n\nHauptgänge: \n\nWiener Schnitzel Klassiker mit hausgemachten Chips oder Bratkartoffeln oder Kartoffelsalat\nSellerieschnitzel Münchner Art mit Kartoffel-Gurken-Salat\nCordon Bleu vom Strohschwein mit Buchloer Rohschinken vom Maischberger\, Steirer Bergkäse und Schmelzzwiebeln gefüllt dazu Salat mit Babyspinat und Radieserl\n\nTischreservierungen gerne online oder unter +49 (0) 89-7448840.
URL:https://hotelbuchenhain.de/event/es-wird-wieder-geschnitzelt/
ATTACH;FMTTYPE=image/jpeg:https://hotelbuchenhain.de/wp-content/uploads/2023/01/schnitzel-wochen-waldgasthof-buchenhain.jpg
END:VEVENT
BEGIN:VEVENT
DTSTART;TZID=Europe/Berlin:20250330T140000
DTEND;TZID=Europe/Berlin:20250330T170000
DTSTAMP:20260423T144155
CREATED:20241216T154520Z
LAST-MODIFIED:20241216T154520Z
UID:10000242-1743343200-1743354000@hotelbuchenhain.de
SUMMARY:KUCHENBUFFET MIT STUBENMUSIK
DESCRIPTION:Zeit für süße Versuchungen! \nGenießen Sie von 14 bis 17 Uhr unser vielfältiges Kuchenbuffet\, begleitet von traditioneller Stubenmusik. \nTischreservierungen gerne online oder unter +49 (0) 89-7448840.
URL:https://hotelbuchenhain.de/event/kuchenbuffet-mit-stubenmusik-10/
ATTACH;FMTTYPE=image/jpeg:https://hotelbuchenhain.de/wp-content/uploads/2022/01/kuchenbuffet_waldgasthof_buchenhain.jpg
END:VEVENT
END:VCALENDAR