BEGIN:VCALENDAR
VERSION:2.0
PRODID:-//Waldgasthof Buchenhain | Hotel, Restaurant &amp; Biergarten - ECPv6.15.20//NONSGML v1.0//EN
CALSCALE:GREGORIAN
METHOD:PUBLISH
X-WR-CALNAME:Waldgasthof Buchenhain | Hotel, Restaurant &amp; Biergarten
X-ORIGINAL-URL:https://hotelbuchenhain.de
X-WR-CALDESC:Veranstaltungen für Waldgasthof Buchenhain | Hotel, Restaurant &amp; Biergarten
REFRESH-INTERVAL;VALUE=DURATION:PT1H
X-Robots-Tag:noindex
X-PUBLISHED-TTL:PT1H
BEGIN:VTIMEZONE
TZID:Europe/Berlin
BEGIN:DAYLIGHT
TZOFFSETFROM:+0100
TZOFFSETTO:+0200
TZNAME:CEST
DTSTART:20240331T010000
END:DAYLIGHT
BEGIN:STANDARD
TZOFFSETFROM:+0200
TZOFFSETTO:+0100
TZNAME:CET
DTSTART:20241027T010000
END:STANDARD
BEGIN:DAYLIGHT
TZOFFSETFROM:+0100
TZOFFSETTO:+0200
TZNAME:CEST
DTSTART:20250330T010000
END:DAYLIGHT
BEGIN:STANDARD
TZOFFSETFROM:+0200
TZOFFSETTO:+0100
TZNAME:CET
DTSTART:20251026T010000
END:STANDARD
BEGIN:DAYLIGHT
TZOFFSETFROM:+0100
TZOFFSETTO:+0200
TZNAME:CEST
DTSTART:20260329T010000
END:DAYLIGHT
BEGIN:STANDARD
TZOFFSETFROM:+0200
TZOFFSETTO:+0100
TZNAME:CET
DTSTART:20261025T010000
END:STANDARD
END:VTIMEZONE
BEGIN:VEVENT
DTSTART;VALUE=DATE:20250329
DTEND;VALUE=DATE:20250413
DTSTAMP:20260423T131314
CREATED:20241216T155014Z
LAST-MODIFIED:20250317T084303Z
UID:10000243-1743206400-1744502399@hotelbuchenhain.de
SUMMARY:ES WIRD WIEDER GESCHNITZELT!
DESCRIPTION:Es wird geschnitzelt! \nFreuen Sie sich auf vielfältige Schnitzel-Variationen – für jeden Geschmack ist etwas dabei! \nVorspeisen: \n\nKleines Schnitzel vom Kräuterseitling mit Tatarsauce und Salatbouquet\nBuchenhain Salat – Blattsalat (Joghurtdressing\, Brezncroûtons\, Radieserl\, Kresse\, gerösteten Sonnenblumenkernen\, Gurke und Kirschtomaten) mit Backhendl\n\nHauptgänge: \n\nWiener Schnitzel Klassiker mit hausgemachten Chips oder Bratkartoffeln oder Kartoffelsalat\nSellerieschnitzel Münchner Art mit Kartoffel-Gurken-Salat\nCordon Bleu vom Strohschwein mit Buchloer Rohschinken vom Maischberger\, Steirer Bergkäse und Schmelzzwiebeln gefüllt dazu Salat mit Babyspinat und Radieserl\n\nTischreservierungen gerne online oder unter +49 (0) 89-7448840.
URL:https://hotelbuchenhain.de/event/es-wird-wieder-geschnitzelt/
ATTACH;FMTTYPE=image/jpeg:https://hotelbuchenhain.de/wp-content/uploads/2023/01/schnitzel-wochen-waldgasthof-buchenhain.jpg
END:VEVENT
BEGIN:VEVENT
DTSTART;VALUE=DATE:20250418
DTEND;VALUE=DATE:20250420
DTSTAMP:20260423T131314
CREATED:20241216T155202Z
LAST-MODIFIED:20250414T073801Z
UID:10000244-1744941600-1745027999@hotelbuchenhain.de
SUMMARY:KARFREITAG = FISCHTAG
DESCRIPTION:Traditionell servieren wir am Karfreitag fangfrische Fischgerichte – perfekt für den besonderen Anlass. \nFreuen Sie sich auf Fischgerichte und vegetarische Schmankerl: \nFisch: \n\nKonfierter Norwegischer Lachs mit hausgemachten Rösti dazu Crème fraîche und Orangen-Chicoree-Salat\nBuchenhain Salat mit Joghurtdressing\, Brezncroûtons\, Radieserl\, Kresse\, geröstete Sonnenblumenkernen\, Gurke und Kirschtomaten mit drei gegrillten Black Tiger Shrimps\nWaller in Senfsauce mit Petersilienkartoffeln und Gurkensalat\nGebratener Zander auf Bärlauchrisotto mit konfierten Kirschtomaten\n½ Pfund Spargel mit getrüffeltem Rührei dazu Saibling von der Aumühle\nSaibling von der Aumühle im Ganzen oder als Filet mit Spinat und Ofendrillinge\n\nVegtarische Gerichte: \n\nGetrüffelte Kartoffelcremesuppe mit Majoran und Sauerrahm\nFrühlingsquiche mit Karotten\, grünem Spargel und Schalotten dazu ein Salatbouquet\n\nTischreservierungen gerne online oder unter +49 (0) 89-7448840.
URL:https://hotelbuchenhain.de/event/karfreitag-ist-fischtag/
ATTACH;FMTTYPE=image/jpeg:https://hotelbuchenhain.de/wp-content/uploads/2022/01/fischwochen-waldgasthof-buchenhain.jpg
END:VEVENT
BEGIN:VEVENT
DTSTART;VALUE=DATE:20250420
DTEND;VALUE=DATE:20250422
DTSTAMP:20260423T131314
CREATED:20241216T155547Z
LAST-MODIFIED:20250414T073916Z
UID:10000245-1745107200-1745279999@hotelbuchenhain.de
SUMMARY:OSTERFEIER(EI)
DESCRIPTION:Festliche Osterfreuden im Waldgasthof! \nWir servieren Ihnen traditionelle Lamm- und Fischgerichte zu Ostern: \nLamm: \n\nGeschmorte Lammhaxe in Portweinjus mit glasiertem Wurzelgemüse und Kartoffelpüree\nGegrilltes Lammrückenfilet mit Ratatouille und Kartoffelgratin\nLammhüfte\, rosa gegrillt\, mit Polenta und wildem Brokkoli\nHasenpfeffer mit hausgemachte Butterspätzle und gegrilltem Lauch im Pfanderl\n\nFisch: \n\nKonfierter Norwegischer Lachs mit hausgemachten Rösti dazu Crème fraîche und Orangen-Chicoree-Salat\nBuchenhain Salat mit Joghurtdressing\, Brezncroûtons\, Radieserl\, Kresse\, geröstete Sonnenblumenkernen\, Gurke und Kirschtomaten mit drei gegrillten Black Tiger Shrimps\nWaller in Senfsauce mit Petersilienkartoffeln und Gurkensalat\nGebratener Zander auf Bärlauchrisotto mit konfierten Kirschtomaten\n½ Pfund Spargel mit getrüffeltem Rührei dazu Saibling von der Aumühle\nSaibling von der Aumühle im Ganzen oder als Filet mit Spinat und Ofendrillinge\n\nWir bitten um frühzeitige Reservierung für Ostersonntag und Ostermontag. \n 
URL:https://hotelbuchenhain.de/event/osterfeierei/
ATTACH;FMTTYPE=image/jpeg:https://hotelbuchenhain.de/wp-content/uploads/2024/12/osterlamm-im-restaurant-muenchen-sued.jpg
END:VEVENT
END:VCALENDAR