BEGIN:VCALENDAR
VERSION:2.0
PRODID:-//Waldgasthof Buchenhain | Hotel, Restaurant &amp; Biergarten - ECPv6.15.20//NONSGML v1.0//EN
CALSCALE:GREGORIAN
METHOD:PUBLISH
X-WR-CALNAME:Waldgasthof Buchenhain | Hotel, Restaurant &amp; Biergarten
X-ORIGINAL-URL:https://hotelbuchenhain.de
X-WR-CALDESC:Veranstaltungen für Waldgasthof Buchenhain | Hotel, Restaurant &amp; Biergarten
REFRESH-INTERVAL;VALUE=DURATION:PT1H
X-Robots-Tag:noindex
X-PUBLISHED-TTL:PT1H
BEGIN:VTIMEZONE
TZID:Europe/Berlin
BEGIN:DAYLIGHT
TZOFFSETFROM:+0100
TZOFFSETTO:+0200
TZNAME:CEST
DTSTART:20240331T010000
END:DAYLIGHT
BEGIN:STANDARD
TZOFFSETFROM:+0200
TZOFFSETTO:+0100
TZNAME:CET
DTSTART:20241027T010000
END:STANDARD
BEGIN:DAYLIGHT
TZOFFSETFROM:+0100
TZOFFSETTO:+0200
TZNAME:CEST
DTSTART:20250330T010000
END:DAYLIGHT
BEGIN:STANDARD
TZOFFSETFROM:+0200
TZOFFSETTO:+0100
TZNAME:CET
DTSTART:20251026T010000
END:STANDARD
BEGIN:DAYLIGHT
TZOFFSETFROM:+0100
TZOFFSETTO:+0200
TZNAME:CEST
DTSTART:20260329T010000
END:DAYLIGHT
BEGIN:STANDARD
TZOFFSETFROM:+0200
TZOFFSETTO:+0100
TZNAME:CET
DTSTART:20261025T010000
END:STANDARD
END:VTIMEZONE
BEGIN:VEVENT
DTSTART;VALUE=DATE:20250511
DTEND;VALUE=DATE:20250513
DTSTAMP:20260423T114114
CREATED:20241217T095818Z
LAST-MODIFIED:20241217T095818Z
UID:10000248-1746928800-1747015199@hotelbuchenhain.de
SUMMARY:MUTTERTAG
DESCRIPTION:Ein Hoch auf alle Mamas! \nWir feiern den Muttertag mit einem besonderen Menü und einer kleinen Überraschung für alle Mütter. \nTischreservierungen gerne online oder unter +49 (0) 89-7448840. \n 
URL:https://hotelbuchenhain.de/event/muttertag-3/
ATTACH;FMTTYPE=image/jpeg:https://hotelbuchenhain.de/wp-content/uploads/2022/01/muttertag_muenchen_sued.jpg
END:VEVENT
BEGIN:VEVENT
DTSTART;VALUE=DATE:20250512
DTEND;VALUE=DATE:20250525
DTSTAMP:20260423T114114
CREATED:20241216T155645Z
LAST-MODIFIED:20250505T074904Z
UID:10000246-1747008000-1748131199@hotelbuchenhain.de
SUMMARY:WÜRSTLPARADE
DESCRIPTION:Es geht um die Wurst! \nFreuen Sie sich auf unsere deftigen Wurstspezialitäten\, von Bratwürstl bis Currywurst: \n\n\nCurrywurst in fruchtig-pikanter Currysauce mit Pommes Frites\nSteirischer Wurstsalat mit Kernöl-Vinaigrette\, Bergkas\, Zwiebeln und Kren\n3 Stk. Merguez scharf gewürzte Bratwurst aus der maghrebinischen Küche mit gegrillten Artischocken und Thymian-Polenta\nGegrillte Bratwurstschnecke auf Fass-Sauerkraut mit Kartoffelpüree\nFenchel-Salsiccia auf Spargel-Risotto/Erbsen-Risotto\n\n\nTischreservierungen gerne online oder unter +49 (0) 89-7448840.
URL:https://hotelbuchenhain.de/event/wuerstlparade-2/
ATTACH;FMTTYPE=image/jpeg:https://hotelbuchenhain.de/wp-content/uploads/2024/12/bratwurst-7720902_19201.jpg
END:VEVENT
BEGIN:VEVENT
DTSTART;TZID=Europe/Berlin:20250517T120000
DTEND;TZID=Europe/Berlin:20250517T120000
DTSTAMP:20260423T114114
CREATED:20241216T160240Z
LAST-MODIFIED:20250428T075051Z
UID:10000247-1747483200-1747483200@hotelbuchenhain.de
SUMMARY:OLDTIMERTREFFEN
DESCRIPTION:Erleben Sie unser 19. Oldtimertreffen voller Nostalgie\, begleitet von bayerischen Schmankerln vom Grill und Live-Musik von Teddy und die Lollipops. \nEin Muss für alle Auto-Liebhaber und Genießer! \nFindet nur bei gutem Wetter statt!
URL:https://hotelbuchenhain.de/event/oldtimertreffen-6/
ATTACH;FMTTYPE=image/jpeg:https://hotelbuchenhain.de/wp-content/uploads/2024/12/20.oldtimertreffen-muenchen.jpg
END:VEVENT
BEGIN:VEVENT
DTSTART;VALUE=DATE:20250529
DTEND;VALUE=DATE:20250530
DTSTAMP:20260423T114114
CREATED:20241217T095921Z
LAST-MODIFIED:20241217T095921Z
UID:10000249-1748476800-1748563199@hotelbuchenhain.de
SUMMARY:CHRISTI HIMMELFAHRT & VATERTAG
DESCRIPTION:Zum Vatertag stoßen wir mit einem Schnapserl aufs Haus an! \nFreuen Sie sich auf zünftige Blasmusik im Biergarten und eine entspannte Zeit in bester Gesellschaft. \nTischreservierungen gerne online oder unter +49 (0) 89-7448840.
URL:https://hotelbuchenhain.de/event/christi-himmelfahrt-vatertag-2/
ATTACH;FMTTYPE=image/jpeg:https://hotelbuchenhain.de/wp-content/uploads/2022/01/vatertag-im-waldgasthof-buchenhain.jpg
END:VEVENT
END:VCALENDAR