BEGIN:VCALENDAR
VERSION:2.0
PRODID:-//Waldgasthof Buchenhain | Hotel, Restaurant &amp; Biergarten - ECPv6.15.20//NONSGML v1.0//EN
CALSCALE:GREGORIAN
METHOD:PUBLISH
X-WR-CALNAME:Waldgasthof Buchenhain | Hotel, Restaurant &amp; Biergarten
X-ORIGINAL-URL:https://hotelbuchenhain.de
X-WR-CALDESC:Veranstaltungen für Waldgasthof Buchenhain | Hotel, Restaurant &amp; Biergarten
REFRESH-INTERVAL;VALUE=DURATION:PT1H
X-Robots-Tag:noindex
X-PUBLISHED-TTL:PT1H
BEGIN:VTIMEZONE
TZID:Europe/Berlin
BEGIN:DAYLIGHT
TZOFFSETFROM:+0100
TZOFFSETTO:+0200
TZNAME:CEST
DTSTART:20240331T010000
END:DAYLIGHT
BEGIN:STANDARD
TZOFFSETFROM:+0200
TZOFFSETTO:+0100
TZNAME:CET
DTSTART:20241027T010000
END:STANDARD
BEGIN:DAYLIGHT
TZOFFSETFROM:+0100
TZOFFSETTO:+0200
TZNAME:CEST
DTSTART:20250330T010000
END:DAYLIGHT
BEGIN:STANDARD
TZOFFSETFROM:+0200
TZOFFSETTO:+0100
TZNAME:CET
DTSTART:20251026T010000
END:STANDARD
BEGIN:DAYLIGHT
TZOFFSETFROM:+0100
TZOFFSETTO:+0200
TZNAME:CEST
DTSTART:20260329T010000
END:DAYLIGHT
BEGIN:STANDARD
TZOFFSETFROM:+0200
TZOFFSETTO:+0100
TZNAME:CET
DTSTART:20261025T010000
END:STANDARD
END:VTIMEZONE
BEGIN:VEVENT
DTSTART;VALUE=DATE:20250707
DTEND;VALUE=DATE:20250714
DTSTAMP:20260423T084704
CREATED:20250610T132220Z
LAST-MODIFIED:20250703T084815Z
UID:10000254-1751846400-1752451199@hotelbuchenhain.de
SUMMARY:SOMMERLICHE SALATFREUDEN
DESCRIPTION:Unsere Salatwoche bringt Frische auf den Teller – perfekt für heiße Sommertage im Biergarten. \n\nFreuen Sie sich auf:\n\nBuchenhain Salat (Blattsalat mit Joghurtdressing\, Brezencroûtons\, Radieserl\, Kresse\, gerösteten Sonnenblumenkernen\, Gurke und Kirschtomaten) mit knusprig gebackenem Austernpilze im Tempuramantel oder mit Ziegenfrischkäse in der Walnusskruste\n\nSalat Niçoise mit knackigen grünen Bohnen\, Grenaille-Kartoffeln\, Ei und gebratenem Thunfisch\n\n\nBackhendl auf Vogerl-Erdäpfel-Salat mit Kernöl\n\n\nCaesar Salat nach Buchenhain Art zur Wahl mit gegrillter Maishähnchenbrust\n\n\nLauwarmer Flammlachs mit Dillschaum\, Gurken-Radieserl-Sprossen-Salat\n\n\n\nTischreservierungen gerne online oder unter +49 (0) 89-7448840.
URL:https://hotelbuchenhain.de/event/sommerliche-salatfreuden/
ATTACH;FMTTYPE=image/webp:https://hotelbuchenhain.de/wp-content/uploads/2025/06/sommerliche-salatfreuden-im-restaurant-und-biergarten-baierbrunn.webp
END:VEVENT
BEGIN:VEVENT
DTSTART;TZID=Europe/Berlin:20250719T170000
DTEND;TZID=Europe/Berlin:20250719T170000
DTSTAMP:20260423T084704
CREATED:20250610T132900Z
LAST-MODIFIED:20250714T101011Z
UID:10000255-1752944400-1752944400@hotelbuchenhain.de
SUMMARY:WALDFEST
DESCRIPTION:Zwei Tage Ausnahmezustand voller Programm & Schmankerl: Unser Waldfest 2025 \nAm Samstagabend ab 17 Uhr sorgen Teddy und die Lollipops & Soul Kitchen für Stimmung. \nDer Eintritt ist frei\, aber um eine Reservierung wird gebeten. \nWir freuen uns auf Ihr Kommen!
URL:https://hotelbuchenhain.de/event/waldfest-5/
ATTACH;FMTTYPE=image/webp:https://hotelbuchenhain.de/wp-content/uploads/2025/06/SoulKitchen_Logo_4c.webp
END:VEVENT
BEGIN:VEVENT
DTSTART;TZID=Europe/Berlin:20250720T110000
DTEND;TZID=Europe/Berlin:20250720T110000
DTSTAMP:20260423T084704
CREATED:20250610T133013Z
LAST-MODIFIED:20250714T100936Z
UID:10000256-1753009200-1753009200@hotelbuchenhain.de
SUMMARY:WALDFEST
DESCRIPTION:Zwei Tage Ausnahmezustand voller Programm & Schmankerl: Unser Waldfest 2025 \nAm Sonntag wird’s zünftig! Um 11 Uhr ist Einlass und ab 12 Uhr spielt die Mühlberg Musi. Ab 14:30 Uhr geht es weiter mit Adi Stahuber und seine Isartaler Blasmusik sowie Sepp Eibelsgruber und seine Freunde der Blasmusik ab 17 Uhr. \nDazu gibt es ein buntes Programm mit Goaßlschnalzer\, Trachtenverein\, Böllerschützen\, Munich Showgirls\, Kinderprogramm mit Kinderschminken\, Comedy-Kellner\,  Kasperltheater und Clown. \nDer Eintritt ist frei\, aber um eine Reservierung wird gebeten. \nWir freuen uns auf Ihr Kommen!
URL:https://hotelbuchenhain.de/event/waldfest-6/
ATTACH;FMTTYPE=image/webp:https://hotelbuchenhain.de/wp-content/uploads/2025/06/waldfest-2025.webp
END:VEVENT
BEGIN:VEVENT
DTSTART;TZID=Europe/Berlin:20250725T150000
DTEND;TZID=Europe/Berlin:20250725T150000
DTSTAMP:20260423T084704
CREATED:20250610T133229Z
LAST-MODIFIED:20250724T094742Z
UID:10000257-1753455600-1753455600@hotelbuchenhain.de
SUMMARY:HOF-FLOHMARKT
DESCRIPTION:Trödeln\, Ratschen\, Entdecken: Zwischen alten Schätzen und Lieblingsstücken lässt sich’s wunderbar stöbern. \nDazu gibt’s Kaffee\, Kuchen und eine g’scheite Brotzeit. \nLEIDER AUFGRUND DES SCHLECHTEN WETTERS ABGESAGT! ❌
URL:https://hotelbuchenhain.de/event/hof-flohmarkt-2/
ATTACH;FMTTYPE=image/jpeg:https://hotelbuchenhain.de/wp-content/uploads/2022/01/hof-flohmarkt-waldgasthof-buchenhain.jpg
END:VEVENT
BEGIN:VEVENT
DTSTART;TZID=Europe/Berlin:20250726T100000
DTEND;TZID=Europe/Berlin:20250726T100000
DTSTAMP:20260423T084704
CREATED:20250610T133319Z
LAST-MODIFIED:20250724T094737Z
UID:10000258-1753524000-1753524000@hotelbuchenhain.de
SUMMARY:HOF-FLOHMARKT
DESCRIPTION:Trödeln\, Ratschen\, Entdecken: Zwischen alten Schätzen und Lieblingsstücken lässt sich’s wunderbar stöbern. \nDazu gibt’s Kaffee\, Kuchen und eine g’scheite Brotzeit. \nLEIDER AUFGRUND DES SCHLECHTEN WETTERS ABGESAGT! ❌
URL:https://hotelbuchenhain.de/event/hof-flohmarkt-3/
ATTACH;FMTTYPE=image/jpeg:https://hotelbuchenhain.de/wp-content/uploads/2022/01/hof-flohmarkt-waldgasthof-buchenhain.jpg
END:VEVENT
END:VCALENDAR