BEGIN:VCALENDAR
VERSION:2.0
PRODID:-//Waldgasthof Buchenhain | Hotel, Restaurant &amp; Biergarten - ECPv6.15.20//NONSGML v1.0//EN
CALSCALE:GREGORIAN
METHOD:PUBLISH
X-WR-CALNAME:Waldgasthof Buchenhain | Hotel, Restaurant &amp; Biergarten
X-ORIGINAL-URL:https://hotelbuchenhain.de
X-WR-CALDESC:Veranstaltungen für Waldgasthof Buchenhain | Hotel, Restaurant &amp; Biergarten
REFRESH-INTERVAL;VALUE=DURATION:PT1H
X-Robots-Tag:noindex
X-PUBLISHED-TTL:PT1H
BEGIN:VTIMEZONE
TZID:Europe/Berlin
BEGIN:DAYLIGHT
TZOFFSETFROM:+0100
TZOFFSETTO:+0200
TZNAME:CEST
DTSTART:20240331T010000
END:DAYLIGHT
BEGIN:STANDARD
TZOFFSETFROM:+0200
TZOFFSETTO:+0100
TZNAME:CET
DTSTART:20241027T010000
END:STANDARD
BEGIN:DAYLIGHT
TZOFFSETFROM:+0100
TZOFFSETTO:+0200
TZNAME:CEST
DTSTART:20250330T010000
END:DAYLIGHT
BEGIN:STANDARD
TZOFFSETFROM:+0200
TZOFFSETTO:+0100
TZNAME:CET
DTSTART:20251026T010000
END:STANDARD
BEGIN:DAYLIGHT
TZOFFSETFROM:+0100
TZOFFSETTO:+0200
TZNAME:CEST
DTSTART:20260329T010000
END:DAYLIGHT
BEGIN:STANDARD
TZOFFSETFROM:+0200
TZOFFSETTO:+0100
TZNAME:CET
DTSTART:20261025T010000
END:STANDARD
END:VTIMEZONE
BEGIN:VEVENT
DTSTART;VALUE=DATE:20250920
DTEND;VALUE=DATE:20251006
DTSTAMP:20260423T035836
CREATED:20250610T140338Z
LAST-MODIFIED:20250915T144939Z
UID:10000267-1758326400-1759708799@hotelbuchenhain.de
SUMMARY:WIESN-SCHMANKERL
DESCRIPTION:O’zapft is – bei uns genauso wie auf der Wiesn. \nFreuen Sie sich auf Oktoberfest-Klassiker\, wie: \n\n– Leberknödelsuppe mit Schnittlauch\n– Deftiges Brotzeitbrettl\n– Schweinshaxe mit Kartoffelknödel und Krautsalat\n– Kalbshaxe auf Bayerisch Kraut mit Semmelknödel\n– Wiesn-Grillhendl mit Kartoffelsalat oder Pommes Frites\n– Dampfnudel aus dem Rohr mit Mohn und Vanillesoße \n\nTischreservierung gerne online oder unter +49 (0) 89-7448840.
URL:https://hotelbuchenhain.de/event/wiesn-schmankerl-4/
ATTACH;FMTTYPE=image/webp:https://hotelbuchenhain.de/wp-content/uploads/2025/06/wiesn-schmankerl-im-restaurant-und-biergarten-muenchen-sued.webp
END:VEVENT
BEGIN:VEVENT
DTSTART;TZID=Europe/Berlin:20251011T100000
DTEND;TZID=Europe/Berlin:20251011T100000
DTSTAMP:20260423T035836
CREATED:20250610T140632Z
LAST-MODIFIED:20250915T134037Z
UID:10000268-1760176800-1760176800@hotelbuchenhain.de
SUMMARY:OLDTIMERTREFFEN
DESCRIPTION:Neben tollen Oldtimern und kulinarischen Genüssen ist bei unserem 20. Oldtimertreffen auch musikalische Unterhaltung von THE MEVERIX geboten. \nEin Muss für alle Auto-Liebhaber und Genießer! \nFindet nur bei gutem Wetter statt!
URL:https://hotelbuchenhain.de/event/oldtimertreffen-7/
ATTACH;FMTTYPE=image/webp:https://hotelbuchenhain.de/wp-content/uploads/2025/06/oldtimertreffen-im-waldgasthof-buchenhain.webp
END:VEVENT
BEGIN:VEVENT
DTSTART;VALUE=DATE:20251019
DTEND;VALUE=DATE:20251020
DTSTAMP:20260423T035836
CREATED:20250610T140855Z
LAST-MODIFIED:20250610T140855Z
UID:10000269-1760832000-1760918399@hotelbuchenhain.de
SUMMARY:KIRCHWEIH
DESCRIPTION:Wir servieren traditionell: Ente\, Gans und Kirchweihnudeln kommen frisch aus der Küche – dazu a Halbe und a guads Platzerl im Wirtshaus. \nTischreservierungen gerne online oder unter +49 (0) 89-7448840.
URL:https://hotelbuchenhain.de/event/kirchweih-2/
ATTACH;FMTTYPE=image/webp:https://hotelbuchenhain.de/wp-content/uploads/2025/06/kirchweih-gans.webp
END:VEVENT
BEGIN:VEVENT
DTSTART;TZID=Europe/Berlin:20251024T190000
DTEND;TZID=Europe/Berlin:20251024T190000
DTSTAMP:20260423T035836
CREATED:20250610T141403Z
LAST-MODIFIED:20250610T141403Z
UID:10000270-1761332400-1761332400@hotelbuchenhain.de
SUMMARY:SCHAFKOPF-TURNIER
DESCRIPTION:Kartler aufgepasst: Packen Sie die Schafkopfkarten aus\, es ist Zeit für glückliche Händchen (15\,- € Startgebühr). \nWir bitten alle Spieler um rechtzeitige Anmeldung per E-Mail an info@hotelbuchenhain.de oder unter +49 89 744 88 40.
URL:https://hotelbuchenhain.de/event/schafkopf-turnier/
ATTACH;FMTTYPE=image/jpeg:https://hotelbuchenhain.de/wp-content/uploads/2022/01/Schafkopfrennen_Waldgasthof_Buchenhain.jpg
END:VEVENT
BEGIN:VEVENT
DTSTART;TZID=Europe/Berlin:20251026T140000
DTEND;TZID=Europe/Berlin:20251026T170000
DTSTAMP:20260423T035836
CREATED:20250610T141507Z
LAST-MODIFIED:20250610T141507Z
UID:10000271-1761487200-1761498000@hotelbuchenhain.de
SUMMARY:KUCHENBUFFET MIT STUBENMUSIK
DESCRIPTION:Süße Klassiker\, feiner Kaffee und traditionelle Stubenmusik – ein gemütlicher Nachmittag\, wie er im Kalender steht. \nTischreservierungen gerne online oder unter +49 (0) 89-7448840.
URL:https://hotelbuchenhain.de/event/kuchenbuffet-mit-stubenmusik-11/
ATTACH;FMTTYPE=image/jpeg:https://hotelbuchenhain.de/wp-content/uploads/2022/01/kuchenbuffet_waldgasthof_buchenhain.jpg
END:VEVENT
END:VCALENDAR