BEGIN:VCALENDAR
VERSION:2.0
PRODID:-//Waldgasthof Buchenhain | Hotel, Restaurant &amp; Biergarten - ECPv6.15.20//NONSGML v1.0//EN
CALSCALE:GREGORIAN
METHOD:PUBLISH
X-WR-CALNAME:Waldgasthof Buchenhain | Hotel, Restaurant &amp; Biergarten
X-ORIGINAL-URL:https://hotelbuchenhain.de
X-WR-CALDESC:Veranstaltungen für Waldgasthof Buchenhain | Hotel, Restaurant &amp; Biergarten
REFRESH-INTERVAL;VALUE=DURATION:PT1H
X-Robots-Tag:noindex
X-PUBLISHED-TTL:PT1H
BEGIN:VTIMEZONE
TZID:Europe/Berlin
BEGIN:DAYLIGHT
TZOFFSETFROM:+0100
TZOFFSETTO:+0200
TZNAME:CEST
DTSTART:20250330T010000
END:DAYLIGHT
BEGIN:STANDARD
TZOFFSETFROM:+0200
TZOFFSETTO:+0100
TZNAME:CET
DTSTART:20251026T010000
END:STANDARD
BEGIN:DAYLIGHT
TZOFFSETFROM:+0100
TZOFFSETTO:+0200
TZNAME:CEST
DTSTART:20260329T010000
END:DAYLIGHT
BEGIN:STANDARD
TZOFFSETFROM:+0200
TZOFFSETTO:+0100
TZNAME:CET
DTSTART:20261025T010000
END:STANDARD
BEGIN:DAYLIGHT
TZOFFSETFROM:+0100
TZOFFSETTO:+0200
TZNAME:CEST
DTSTART:20270328T010000
END:DAYLIGHT
BEGIN:STANDARD
TZOFFSETFROM:+0200
TZOFFSETTO:+0100
TZNAME:CET
DTSTART:20271031T010000
END:STANDARD
END:VTIMEZONE
BEGIN:VEVENT
DTSTART;VALUE=DATE:20260202
DTEND;VALUE=DATE:20260214
DTSTAMP:20260420T201952
CREATED:20251202T133205Z
LAST-MODIFIED:20260113T130201Z
UID:10000285-1769990400-1771027199@hotelbuchenhain.de
SUMMARY:BETRIEBSFERIEN
DESCRIPTION:Wir gönnen uns eine kleine Verschnaufpause und sind bald wieder für Sie da – mit neuen kulinarischen Highlights!
URL:https://hotelbuchenhain.de/event/betriebsferien-3/
ATTACH;FMTTYPE=image/jpeg:https://hotelbuchenhain.de/wp-content/uploads/2021/06/highlights-2021-im-waldgasthof-baierbrunn-teil-2.jpg
END:VEVENT
BEGIN:VEVENT
DTSTART;TZID=Europe/Berlin:20260214T180000
DTEND;TZID=Europe/Berlin:20260214T180000
DTSTAMP:20260420T201952
CREATED:20251202T133409Z
LAST-MODIFIED:20260213T110858Z
UID:10000286-1771092000-1771092000@hotelbuchenhain.de
SUMMARY:VALENTINSTAG MIT TURTELTAUBEN-MENÜ
DESCRIPTION:Ein Hoch auf die Liebe! \nGenießen Sie ein romantisches Candle-Light-Dinner mit einem exklusiven 3-Gänge-Menü inkl. Aperitif für Verliebte. \nSie können selbsverständlich auch à la carte essen…. \nDas Menü: \nGlas Winzersekt rosé \n*** \nSüßkartoffel-Cappuccino mit Granatapfelpuder \n*** \nRosa gebratene Barbarie Entenbrust mit Feigen-Rotweinsauce dazu cremiges Rote Beete Püree und Kartoffelkrapfen \nODER \nWeißwein Risotto mit gegrillten Kräuterseitlingen\, Kirschtomaten und Rote Beete Chip \n*** \nZartbitter Schokoladenmousse-Türmchen mit Blätterteig und Beerenragout \nPreis pro Person: 59\,00 € \nAuf Wunsch mit Weinbegleitung. \nTischreservierungen gerne online oder unter +49 (0) 89-7448840.
URL:https://hotelbuchenhain.de/event/valentinstag-mit-turteltauben-menue/
ATTACH;FMTTYPE=image/jpeg:https://hotelbuchenhain.de/wp-content/uploads/2022/01/valentistag-menue-muenchen-sued.jpg
END:VEVENT
BEGIN:VEVENT
DTSTART;VALUE=DATE:20260218
DTEND;VALUE=DATE:20260219
DTSTAMP:20260420T201952
CREATED:20251202T133751Z
LAST-MODIFIED:20260202T103757Z
UID:10000287-1771372800-1771459199@hotelbuchenhain.de
SUMMARY:ASCHERMITTWOCH
DESCRIPTION:Genießen Sie an Aschermittwoch unsere frischen Fischgerichte\, die Tradition und kulinarischen Genuss vereinen. \nLassen Sie sich von den delikaten Aromen überraschen: \n\nMatjes Filet nach Hausfrauen Art mit kleinen Petersilienkartoffeln\nFlammlachs mit Rösti\, Feldsalat und Orangen-Schmand\nHummercremesuppe\nTagliatelle mit Shrimps/ Flußkrebsen\nSaibling „Müllerin Art“ im Ganzen gebraten für zwei Personen mit Tomaten-Mandel-Butter dazu Wurzelspinat & Ofendrillingen\nKabeljau mit Zitronen-Parmesan-Kruste auf Polenta mit konfierten Kirschtomaten\nGegrillter Pulpo auf Fragola Sarda (sardinische Nudelart aus Hartweizengrieß in kleiner Kugelform)\n\nTischreservierungen gerne online oder unter +49 (0) 89-7448840.
URL:https://hotelbuchenhain.de/event/aschermittwoch-2/
ATTACH;FMTTYPE=image/webp:https://hotelbuchenhain.de/wp-content/uploads/2025/12/aschermittwoch-fischessen-restaurant-bei-pullach.webp
END:VEVENT
BEGIN:VEVENT
DTSTART;VALUE=DATE:20260218
DTEND;VALUE=DATE:20260225
DTSTAMP:20260420T201952
CREATED:20251202T134040Z
LAST-MODIFIED:20260202T103803Z
UID:10000289-1771372800-1771977599@hotelbuchenhain.de
SUMMARY:FISCHWOCHE
DESCRIPTION:Kommen Sie auf den Geschmack! \nIn unserer Fischwoche bieten wir Ihnen köstliche Gerichte aus See und Meer – für alle Liebhaber der Fischküche: \n\nMatjes Filet nach Hausfrauen Art mit kleinen Petersilienkartoffeln\nFlammlachs mit Rösti\, Feldsalat und Orangen-Schmand\nHummercremesuppe\nTagliatelle mit Shrimps/ Flußkrebsen\nSaibling „Müllerin Art“ im Ganzen gebraten für zwei Personen mit Tomaten-Mandel-Butter dazu Wurzelspinat & Ofendrillingen\nKabeljau mit Zitronen-Parmesan-Kruste auf Polenta mit konfierten Kirschtomaten\nGegrillter Pulpo auf Fragola Sarda (sardinische Nudelart aus Hartweizengrieß in kleiner Kugelform)\n\nTischreservierungen gerne online oder unter +49 (0) 89-7448840.
URL:https://hotelbuchenhain.de/event/fischwoche/
ATTACH;FMTTYPE=image/jpeg:https://hotelbuchenhain.de/wp-content/uploads/2024/12/fischwochen-im-restaurant-muenchen.jpg
END:VEVENT
BEGIN:VEVENT
DTSTART;TZID=Europe/Berlin:20260222T140000
DTEND;TZID=Europe/Berlin:20260222T170000
DTSTAMP:20260420T201952
CREATED:20251202T133846Z
LAST-MODIFIED:20251208T082141Z
UID:10000288-1771768800-1771779600@hotelbuchenhain.de
SUMMARY:KUCHENBUFFET MIT STUBENMUSIK
DESCRIPTION:Zeit für Süßes! Schlemmen Sie sich durch unser vielfältiges Kuchenbuffet und genießen Sie dazu traditionelle Stubenmusik. \nEin Genuss für Herz und Gaumen. \nTischreservierungen gerne online oder unter +49 (0) 89-7448840.
URL:https://hotelbuchenhain.de/event/kuchenbuffet-mit-stubenmusik-14/
ATTACH;FMTTYPE=image/webp:https://hotelbuchenhain.de/wp-content/uploads/2025/12/kuchenbuffet-restaurant-buchenhain.webp
END:VEVENT
END:VCALENDAR